BEGIN:VCALENDAR
VERSION:2.0
PRODID:-//wp-events-plugin.com//7.2.3.1//EN
TZID:Europe/Berlin
X-WR-TIMEZONE:Europe/Berlin
BEGIN:VEVENT
UID:52@21maldrei.de
DTSTART;TZID=Europe/Berlin:20250321T090000
DTEND;TZID=Europe/Berlin:20250321T190000
DTSTAMP:20250312T104331Z
URL:https://www.21maldrei.de/events/21maldrei-dialog-museum-wdst-2025/
SUMMARY:21malDREI im Dialog-Museum am Welt-Down-Syndrom-Tag 2025
DESCRIPTION:Das Dialog Museum &amp\; 21malDREI – Initiative Trisomie 21 F
 rankfurt e.V. laden ein.\n\nAm 21.3.2025 findet der jährliche Welt-Down-S
 yndrom-Tag (WDST) statt. Das Dialog Museum und der Verein 21malDREI - Init
 iative Trisomie 21 Frankfurter e.V. – laden an diesem Tag herzlich in da
 s Dialog Museum ein. 21malDREI stellt sich vor\, klärt über das Leben mi
 t Down-Syndrom auf\, beantwortet Fragen und freut sich über alle\, die bu
 nte Socken tragen und somit eine Statement für Inklusion und Diversität 
 setzen.\n\nDas globale Motto des diesjährigen WDST lautet „Improve our 
 Support Systems“. Unterstützen Sie diesen Tag\, um mit uns in den Dialo
 g zu kommen - mit Angehörigen\, Mitgliedern des Vereins und dem Vorstand.
  Erfahren sie mehr über den Verein\, dessen Arbeit\, das Leben mit Trisom
 ie21 und den familiären Alltag. Machen sie gemeinsam mit dem Verein den 2
 1.3. zu einem bunten Tag. \n\n… und vergessen Sie Ihre bunten Socken ni
 cht!\n\nDu bist 21malDREI Vereinsmitglied?\n\n 	Wir brauchen deine Hilfe: 
 Melde dich bitte hier für die Mitarbeit beim Info-Stand an\n 	Exklusiv f
 ür Vereinsmitglieder bieten wir in Kooperation mit dem Dialog-Muesum kost
 enlose Führungen im Dialog-Museum um 15:30 Uhr und 15:45 Uhr an. Melde di
 ch hier an.\n\n&nbsp\;
ATTACH;FMTTYPE=image/jpeg:https://www.21maldrei.de/wp-content/uploads/2025
 /03/WDST-Dialogmuseum-2025-1.jpg
LOCATION:Dialog Museum Frankfurt\, An der Hauptwache\, Frankfurt am Main\, 
 60313\, Deutschland
X-APPLE-STRUCTURED-LOCATION;VALUE=URI;X-ADDRESS=An der Hauptwache\, Frankfu
 rt am Main\, 60313\, Deutschland;X-APPLE-RADIUS=100;X-TITLE=Dialog Museum 
 Frankfurt:geo:0,0
END:VEVENT
BEGIN:VTIMEZONE
TZID:Europe/Berlin
X-LIC-LOCATION:Europe/Berlin
BEGIN:STANDARD
DTSTART:20241027T020000
TZOFFSETFROM:+0200
TZOFFSETTO:+0100
TZNAME:CET
END:STANDARD
END:VTIMEZONE
END:VCALENDAR