BEGIN:VCALENDAR
VERSION:2.0
PRODID:-//wp-events-plugin.com//7.2.3.1//EN
TZID:Europe/Berlin
X-WR-TIMEZONE:Europe/Berlin
BEGIN:VEVENT
UID:45@21maldrei.de
DTSTART;TZID=Europe/Berlin:20250615T120000
DTEND;TZID=Europe/Berlin:20250615T170000
DTSTAMP:20250615T065715Z
URL:https://www.21maldrei.de/events/21maldrei-familien-sommerfest/
SUMMARY:21malDREI Familien Sommerfest
DESCRIPTION:Liebe Familien\,\nWir feiern zum allerersten Mal unser großes 
 Sommerfest – und ihr seid herzlich eingeladen!\nKommt mit uns zum Sport-
  &amp\; Learning Day – ein Tag voller Spaß\, Action\, Bewegung und Geme
 inschaft.\n\n\n\n🗓  Wann: 15. Juni 2025\n\n🕚 Uhrzeit: 12:00 – 17:
 00 Uhr (Achtung: Startzeit verschoben von 11:00 Uhr auf 12:00 Uhr)\n📍 W
 o: SV Niederursel\n\nDorfwiesenweg 35\, 60439 Frankfurt am Main – Nieder
 ursel\n\nWas euch alles erwartet? Eine bunte Mischung aus:\n💥 Hüpfburg
 \n🎢 Rollenrutsche\n🎨 Kinderschminken &amp\; Glitzertattoos\n🫧 Rie
 senseifenblasen\n💃 Zumba Kids\n💦 Wasser-Action\n…und noch viele we
 itere Überraschungen!\n\nNatürlich haben wir auch an euer leibliches Woh
 l gedacht – Snacks &amp\; Drinks gibt’s vor Ort. Über eine kleine Spe
 nde freuen wir uns sehr.\n\n💡 Wichtig bei der Anmeldung:\nBitte gebt da
 s Familienmitglied mit Down-Syndrom als Teilnehmer*in an.\nAlle anderen G
 äste – Eltern\, Geschwister\, Omas und Opas – zählen als Begleitpers
 onen.\n\nIhr werdet nach der Anmeldung eine Anmeldebestätigung erhalten s
 owie eine PDF-Datei mit den Tickets mit QR Code. Diese bitte zur Veranstal
 tung mitbringen.\n\n✨ Hinweis zur Planung:\nDa wir noch mitten in der Vo
 rbereitung stecken kann sich bis zum Fest noch die ein oder andere schöne
  Überraschung ergeben – bleibt gespannt!\n\n🙏 Ein riesiges Dankesch
 ön geht an die ZURICH Versicherung!\nNur durch eine besonders großzügig
 e Spende konnte dieses tolle Event überhaupt möglich gemacht werden. Wir
  sind sehr dankbar für diese Unterstützung!\n\nAuch wenn dieser Tag unse
 rer ganzen Community gehört – unsere größten Stars sind unsere Kinder
  mit dem kleinen Extra.\nOhne sie gäbe es weder unsere Gemeinschaft noch 
 dieses Fest.\n\nLasst uns gemeinsam lachen\, entdecken\, tanzen und den So
 mmer feiern!\nWir freuen uns riesig auf euch!\n\nSonnige Grüße\,\nEuer T
 eam von 21malDREI – Initiative Trisomie 21 Frankfurt e.V.\n\nRechtlicher
  Hinweis: Die Teilnahme an der Veranstaltung erfolgt auf eigene Gefahr. El
 tern haften für ihre Kinder.
ATTACH;FMTTYPE=image/jpeg:https://www.21maldrei.de/wp-content/uploads/2024
 /12/Familien-Sommerfest-2025.jpeg
LOCATION:SV Niederursel\, Dorfwiesenweg 35\, Frankfurt am Main\, 60439 \, D
 eutschland
X-APPLE-STRUCTURED-LOCATION;VALUE=URI;X-ADDRESS=Dorfwiesenweg 35\, Frankfur
 t am Main\, 60439 \, Deutschland;X-APPLE-RADIUS=100;X-TITLE=SV Niederursel
 :geo:0,0
END:VEVENT
BEGIN:VTIMEZONE
TZID:Europe/Berlin
X-LIC-LOCATION:Europe/Berlin
BEGIN:DAYLIGHT
DTSTART:20250330T030000
TZOFFSETFROM:+0100
TZOFFSETTO:+0200
TZNAME:CEST
END:DAYLIGHT
END:VTIMEZONE
END:VCALENDAR