BEGIN:VCALENDAR
VERSION:2.0
PRODID:-//wp-events-plugin.com//7.2.3.1//EN
TZID:Europe/Berlin
X-WR-TIMEZONE:Europe/Berlin
BEGIN:VEVENT
UID:74@21maldrei.de
DTSTART;TZID=Europe/Berlin:20260301T130000
DTEND;TZID=Europe/Berlin:20260301T160000
DTSTAMP:20260219T090721Z
URL:https://www.21maldrei.de/events/21maldrei-kino-tag-2026/
SUMMARY:Kino Tag - für Familien mit jüngeren Kids
DESCRIPTION:Ein besonderer Kino-Nachmittag für unsere Familien\n\nGemeinsa
 m lachen\, staunen und Kino ganz entspannt erleben.\n\nManchmal sind es di
 e kleinen Erlebnisse\, die lange in Erinnerung bleiben. Gemeinsam mit dem 
 KINOPOLIS Sulzbach laden wir unsere Mitgliedsfamilien herzlich zu einem li
 ebevoll gestalteten Kinobesuch ein – speziell für unsere jüngeren Kind
 er und ihre Familien.\n\nPassend zur Osterzeit besuchen wir den warmherzig
 en Animationsfilm\nDie Häschenschule 2 – Der große Eierklau – fröhl
 ich\, spannend und wunderbar kindgerecht.\n\n \n\n🎬 Kino\, so wie es f
 ür Kinder gut passt\n\nDer Film wird im Rahmen des Konzepts „Mein erste
 r Kinobesuch“ gezeigt. Das bedeutet:\n\n 	keine Werbung\,\n 	gedimmtes\,
  aber nicht dunkles Licht\,\n 	reduzierte Lautstärke.\n\nSo können gerad
 e unsere kleineren Kinder – und Kinder mit komplexer Wahrnehmung – das
  Kino in ihrem eigenen Tempo entdecken und genießen. Alles darf\, nichts 
 muss.\n\n&nbsp\;\n\n🗓️ Auf einen Blick\n\n 	Datum: Sonntag\, 01.03.\n
  	Filmbeginn: 13:30 Uhr\n 	Treffpunkt &amp\; Kartenübergabe: 13:00 Uhr im
  Foyer\n 	FSK: 0\n 	Dauer: 76 Minuten\n\nWir treffen uns gemeinsam im Foye
 r\, holen dort unsere Karten ab und gehen anschließend zusammen in den Sa
 al – für einen entspannten\, schönen Nachmittag als Gemeinschaft.\n\n&
 nbsp\;\n\n🎟️ Unsere Ticketangebote\n\nFür unsere Familien haben wir 
 ein zusammenhängendes Sitzplatzkontingent reserviert.\n\n🎫 Kinderticke
 t – 5\,00 €\n(für alle Kinder\, mit oder ohne Down-Syndrom)\ninklusiv
 e:\n\n 	Kinoticket\n 	🍿 Kinderpopcorn (süß oder salzig – bitte bei 
 der Buchung auswählen)\n 	🥤 kleines Getränk (voraussichtlich Apfelsch
 orle)\n\n👩‍🦰 Erwachsene Begleitung\n\n 	1 Begleitperson eines Kind
 es mit Behinderung: kostenfrei (0\,00 €)\n 	Jede weitere erwachsene Begl
 eitperson: 3\,99 €\n\n \n\n💛 Gut zu wissen\n\n 	Die Buchung erfolgt 
 verbindlich über unser Mitgliederportal.\n 	Eine Rückerstattung ist leid
 er nicht möglich.\n 	Falls ihr kurzfristig verhindert seid\, könnt ihr i
 nnerhalb unserer Community gern selbst eine Ersatzfamilie finden. Bitte ge
 bt die Karten nicht außerhalb weiter. Das Angebot ist nur für Mitglieder
  von 21malDREI bestimmt.\n 	Nicht gebuchte Plätze aus unserem Kontingent 
 werden am 20.02. wieder freigegeben. Bis dahin solltet ihr spätestens geb
 ucht haben. ACHTUNG! Unser Kontingent ist begrenzt.\n\n&nbsp\;\n\n❤️ W
 arum uns dieses Angebot wichtig ist\n\nWir möchten Räume schaffen\, in d
 enen sich unsere Familien willkommen fühlen – ohne Druck\, ohne Erwartu
 ngen\, mit viel Verständnis füreinander. Dieser Kinobesuch soll genau da
 s sein: ein gemeinsames Erlebnis\, das Freude macht und verbindet. Und nat
 ürlich bringt es unsere Kinder genau da hin\, wo sie hingehören. In die 
 Mitte der Gesellschaft\, in die Mitte des Kinos :)\n\n👉 Wir freuen uns 
 auf euch und einen fröhlichen Kino-Nachmittag! 🐣🎬\n\nEuer Vorstand 
 von 21malDREI
ATTACH;FMTTYPE=image/jpeg:https://www.21maldrei.de/wp-content/uploads/2026
 /02/Kino-Tag.jpeg
LOCATION:Kinopolis Sulzbach\, Main-Taunus-Zentrum\, Sulzbach\, 65843\, Deut
 schland
X-APPLE-STRUCTURED-LOCATION;VALUE=URI;X-ADDRESS=Main-Taunus-Zentrum\, Sulzb
 ach\, 65843\, Deutschland;X-APPLE-RADIUS=100;X-TITLE=Kinopolis Sulzbach:ge
 o:0,0
END:VEVENT
BEGIN:VTIMEZONE
TZID:Europe/Berlin
X-LIC-LOCATION:Europe/Berlin
BEGIN:STANDARD
DTSTART:20251026T020000
TZOFFSETFROM:+0200
TZOFFSETTO:+0100
TZNAME:CET
END:STANDARD
END:VTIMEZONE
END:VCALENDAR