BEGIN:VCALENDAR
VERSION:2.0
PRODID:-//wp-events-plugin.com//7.2.3.1//EN
TZID:Europe/Berlin
X-WR-TIMEZONE:Europe/Berlin
BEGIN:VEVENT
UID:64@21maldrei.de
DTSTART;TZID=Europe/Berlin:20260110T183000
DTEND;TZID=Europe/Berlin:20260110T210000
DTSTAMP:20251115T104902Z
URL:https://www.21maldrei.de/events/abfrage-zu-skyliners-vs-niners-chemnit
 z/
SUMMARY:Abfrage zu SKYLINERS vs. NINERS Chemnitz
DESCRIPTION:Dies ist erstmal NUR eine Abfrage und noch keine Buchung\, wer 
 Interesse an Tickets hat: SKYLINERS vs. NINERS in Chemnitz.\n\nDas Team SK
 YLINERS - Stuart &amp\; Friends freut sich sehr auf ein packendes Spiel ge
 MAINsam mit euch.
ATTACH;FMTTYPE=image/jpeg:https://www.21maldrei.de/wp-content/uploads/2025
 /11/21malDREI-SKYLINERS-vs.-NINERS-Chemnitz.jpg
LOCATION:Süwag Energie Arena\, Silostraße 26\, Frankfurt am Main\, Hessen
 \, 65929\, Deutschland
X-APPLE-STRUCTURED-LOCATION;VALUE=URI;X-ADDRESS=Silostraße 26\, Frankfurt 
 am Main\, Hessen\, 65929\, Deutschland;X-APPLE-RADIUS=100;X-TITLE=Süwag E
 nergie Arena:geo:0,0
END:VEVENT
BEGIN:VTIMEZONE
TZID:Europe/Berlin
X-LIC-LOCATION:Europe/Berlin
BEGIN:STANDARD
DTSTART:20251026T020000
TZOFFSETFROM:+0200
TZOFFSETTO:+0100
TZNAME:CET
END:STANDARD
END:VTIMEZONE
END:VCALENDAR