BEGIN:VCALENDAR
VERSION:2.0
PRODID:-//wp-events-plugin.com//7.2.3.1//EN
TZID:Europe/Berlin
X-WR-TIMEZONE:Europe/Berlin
BEGIN:VEVENT
UID:31@21maldrei.de
DTSTART;TZID=Europe/Berlin:20240613T203000
DTEND;TZID=Europe/Berlin:20240613T220000
DTSTAMP:20240515T190419Z
URL:https://www.21maldrei.de/events/au-pair-fuer-familien-mit-einem-kind-m
 it-behinderung-wie-geht-das/
SUMMARY:Au-Pair für Familien mit einem Kind mit Behinderung - wie geht das
 ?
DESCRIPTION:Am Donnerstag den 13.06. stellt Melanie Matl Deutschlands 1. Au
 -Pair Agentur "Besondere Sterne" für Familien mit einem Kind mit Behinder
 ung vor. Die Intention der Au-Pair Agentur "Besondere Sterne" ist\, Famili
 en mit Kindern mit Behinderung ein zusätzliches Betreuungs- und Unterstü
 tzungsangebot in ihrem Alltag zu ermöglichen.\n\nWir freuen uns auf einen
  informativen Abend um unseren Mitgliedern und allen interessierten pflege
 nden Eltern diese Möglichkeit der Unterstützung aufzuzeigen.\n\nNicht je
 de Familie hat das sprichwörtlich Dorf an seiner Seite\, um ihre Kinder g
 roß zu ziehen. Pflegende Familien oftmals noch weniger.\n\nWir sind gespa
 nnt und freuen uns auf eure Teilnahme.\n\nDiese Online Veranstaltung biete
 n wir kostenfrei an. Eine Anmeldung kann ganz unkompliziert über unser Bu
 chungssystem auf www.21malDREI.de erfolgen.\n\n&nbsp\;
ATTACH;FMTTYPE=image/jpeg:https://www.21maldrei.de/wp-content/uploads/2024
 /05/Au-Pair-fuer-Eltern-mit-einem-Kind-mit-Behinderung.jpg
END:VEVENT
BEGIN:VTIMEZONE
TZID:Europe/Berlin
X-LIC-LOCATION:Europe/Berlin
BEGIN:DAYLIGHT
DTSTART:20240331T030000
TZOFFSETFROM:+0100
TZOFFSETTO:+0200
TZNAME:CEST
END:DAYLIGHT
END:VTIMEZONE
END:VCALENDAR