BEGIN:VCALENDAR
VERSION:2.0
PRODID:-//wp-events-plugin.com//7.2.3.1//EN
TZID:Europe/Berlin
X-WR-TIMEZONE:Europe/Berlin
BEGIN:VEVENT
UID:97@21maldrei.de
DTSTART;TZID=Europe/Berlin:20260329T150000
DTEND;TZID=Europe/Berlin:20260329T163000
DTSTAMP:20260227T165245Z
URL:https://www.21maldrei.de/events/besuch-frankfurt-skyliners-vs-rostock-
 seawolves/
SUMMARY:Besuch Frankfurt Skyliners vs Rostock Seawolves
DESCRIPTION:Die Frankfurt Skyliners laden zum Charity Spiel gegen die Rosto
 ck Seawolves. Wer Interesse an einem Ticket hat\, bucht bitte diese Verans
 taltung. Bitte 1 Platz buchen für jede teilnehmende Person.\n\nAnpfiff is
 t am 29.03.2026 um 15:00 Uhr
ATTACH;FMTTYPE=image/jpeg:https://www.21maldrei.de/wp-content/uploads/2026
 /02/Skyliners-vs-Seawolves-Maerz-2026.jpeg
LOCATION:Süwag Energie Arena\, Silostraße 26\, Frankfurt am Main\, Hessen
 \, 65929\, Deutschland
X-APPLE-STRUCTURED-LOCATION;VALUE=URI;X-ADDRESS=Silostraße 26\, Frankfurt 
 am Main\, Hessen\, 65929\, Deutschland;X-APPLE-RADIUS=100;X-TITLE=Süwag E
 nergie Arena:geo:0,0
END:VEVENT
BEGIN:VTIMEZONE
TZID:Europe/Berlin
X-LIC-LOCATION:Europe/Berlin
BEGIN:DAYLIGHT
DTSTART:20260329T030000
TZOFFSETFROM:+0100
TZOFFSETTO:+0200
TZNAME:CEST
END:DAYLIGHT
END:VTIMEZONE
END:VCALENDAR