BEGIN:VCALENDAR
VERSION:2.0
PRODID:-//wp-events-plugin.com//7.2.3.1//EN
TZID:Europe/Berlin
X-WR-TIMEZONE:Europe/Berlin
BEGIN:VEVENT
UID:29@21maldrei.de
DTSTART;TZID=Europe/Berlin:20241107T193000
DTEND;TZID=Europe/Berlin:20241107T220000
DTSTAMP:20250124T111255Z
URL:https://www.21maldrei.de/events/das-seminar-zum-sba-antragstellung-nut
 zung-nachteilsausgleiche/
SUMMARY:Das Seminar zum SBA- Antragstellung\, Nutzung\, Nachteilsausgleiche
DESCRIPTION:Du hast 1000 Fragezeichen\, was den Schwerbehinderten-Ausweis a
 ngeht und findest das Thema dröge und kompliziert? Keine Sorge! Dieses Se
 minar verschafft dir Klarheit! Und es wird bestimmt nicht langweilig\, den
 n eigentlich ist es superspannend herauszufinden\, wie wir dazu beitragen 
 können\, dass unsere Kinder\, Jugendlichen und Erwachsene mit Behinderung
 en richtig eingestuft werden und die Vorzüge auch tatsächlich nutzen kö
 nnen! Vor allem aber: Für SteuerzahlerInnen ist dieses Seminar bares Geld
  wert. Darum geht es:\n\n 	Wann sollte ein (neuer) SBA beantragt werden?\n
  	Wer ist eigentlich „schwerbehindert“ und welche Rechte leiten sich d
 araus ab?\n 	Was ist der "Grad der Behinderung" und wie setzt er sich zusa
 mmen?\n 	Bedeutung der Merkzeichen und ihr Nutzen\n 	Merkzeichen "H": Was 
 man über das wichtigste aller Merkzeichen wissen muss und wie "Hilflosigk
 eit" begründet wird\n 	Worauf ist bei der Antragstellung zu achten um ein
 e zügige und korrekte Einstufung zu ermöglichen?\n 	Warum werden Kinder 
 und Jugendliche mit ähnlichen Behinderungen oft völlig unterschiedlich e
 ingestuft und wie kann ich dazu beitragen\, dass die AntragstellerInnen ei
 nen angemessenen Grad der Behinderung (GdB) und passende Merkzeichen erhal
 ten?\n 	Welche steuerlichen Erleichterungen haben Behinderte und ihre Fami
 lien durch den SBA?\n 	Welche weiteren Vorzüge sind mit dem SBA verbunden
 ?\n 	Wann dürfen Behinderte und ihre Begleitung den öffentlichen Persone
 n-Nahverkehr nutzen\n 	Können wir Kraftfahrzeugsteuer sparen indem wir da
 s Auto auf unser Kind zulassen?\n 	Können auch (kleine) Kinder alle Merkz
 eichen erhalten?\n\nKosten: Das Seminar wird für unsere Mitglieder zu ein
 em reduzierten Kostenbeitrag angeboten (entsprechender Gutschein-Code wird
  Mitgliedern auf den üblichen Wegen bekannt gegeben).\n\nÜber die Refere
 ntin:\n\nMarion Mahnke ist Pädagogin\, Kulturwissenschaftlerin (ReWi)\, B
 eraterin für Stressbewältigung und Systemischer Resilienz- Coach.\nUnter
  dem Motto „Außergewöhnlich gut leben“ hilft sie als Expertin für S
 pecial-Needs-Parenting Eltern von Kindern mit besonderen Bedürfnissen bei
  allen Themen rund um die Verbesserung der Lebensqualität.\nDabei ist es 
 ihr wichtig\, alle Familienmitglieder in den Blick zu nehmen und sie dabei
  zu unterstützen\, schwierige Situationen souverän zu meistern. Die Refe
 rentin ist Mutter von drei Kindern. Eine ihrer Töchter lebt mit Down-Synd
 rom und Autismus.\n\nHomepage: www.marion-mahnke.de | www.special-needs-pa
 renting.de\n\nDas Seminar wird gefördert durch die Merck BKK.\n\n
ATTACH;FMTTYPE=image/jpeg:https://www.21maldrei.de/wp-content/uploads/2024
 /06/SBA-Seminar-2024.jpeg
END:VEVENT
BEGIN:VTIMEZONE
TZID:Europe/Berlin
X-LIC-LOCATION:Europe/Berlin
BEGIN:STANDARD
DTSTART:20241027T020000
TZOFFSETFROM:+0200
TZOFFSETTO:+0100
TZNAME:CET
END:STANDARD
END:VTIMEZONE
END:VCALENDAR