BEGIN:VCALENDAR
VERSION:2.0
PRODID:-//wp-events-plugin.com//7.2.3.1//EN
TZID:Europe/Berlin
X-WR-TIMEZONE:Europe/Berlin
BEGIN:VEVENT
UID:75@21maldrei.de
DTSTART;TZID=Europe/Berlin:20260626T184500
DTEND;TZID=Europe/Berlin:20260626T220000
DTSTAMP:20260402T144229Z
URL:https://www.21maldrei.de/events/dream-night-2026/
SUMMARY:Dream Night 2026
DESCRIPTION:Die Dream Night ist eine Veranstaltung des Zoo Frankfurt für K
 inder mit Behinderung oder chronischer Erkrankung\, ihre engsten Familiena
 ngehörigen oder Betreuenden.\n\nDie Dream Night ist eine Veranstaltung de
 s Zoo Frankfurt zu der wir als Verein eingeladen wurden und für die wir e
 xklusiv unseren Mitgliedern Karten anbieten dürfen. Die Karten sind nicht
  verkäuflich und nur für Mitglieder erhältlich. Der Zoo behält sich vo
 r\, weniger Karten auszugeben\, als bestellt.
ATTACH;FMTTYPE=image/jpeg:https://www.21maldrei.de/wp-content/uploads/2026
 /02/Dream-Night-2026.jpg
LOCATION:Zoo Frankfurt\, Bernhard-Grzimek-Allee 1\, Frankfurt am Main\,  60
 316\, Deutschland
X-APPLE-STRUCTURED-LOCATION;VALUE=URI;X-ADDRESS=Bernhard-Grzimek-Allee 1\, 
 Frankfurt am Main\,  60316\, Deutschland;X-APPLE-RADIUS=100;X-TITLE=Zoo Fr
 ankfurt:geo:0,0
END:VEVENT
BEGIN:VTIMEZONE
TZID:Europe/Berlin
X-LIC-LOCATION:Europe/Berlin
BEGIN:DAYLIGHT
DTSTART:20260329T030000
TZOFFSETFROM:+0100
TZOFFSETTO:+0200
TZNAME:CEST
END:DAYLIGHT
END:VTIMEZONE
END:VCALENDAR