BEGIN:VCALENDAR
VERSION:2.0
PRODID:-//wp-events-plugin.com//7.2.3.1//EN
TZID:Europe/Berlin
X-WR-TIMEZONE:Europe/Berlin
BEGIN:VEVENT
UID:76@21maldrei.de
DTSTART;TZID=Europe/Berlin:20260626T183000
DTEND;TZID=Europe/Berlin:20260626T220000
DTSTAMP:20260402T195720Z
URL:https://www.21maldrei.de/events/dream-night-stand-betreuung-2026/
SUMMARY:Dream Night 2026 - Stand Betreuung
DESCRIPTION:Wir dürfen uns als Verein 21malDREI – Initiative Trisomie 21
  Frankfurt e.V. im Rahmen der Dream Night präsentieren.\n\nAn unserem Sta
 nd werden von einem Team freiwilliger Helfer unterstützt.\n\nEs wird Glit
 zer Tattoos und Buttons zum Bemalen geben.\n\nWir wünschen uns ein oder z
 wei Personen des Vereins in 30-minütigen Schichten am Stand. Denn wer kö
 nnte besser über uns berichten\, als Ihr.\n\nWir haben die Slots hier zur
  Buchung frei gegeben. Bitte tragt euch ein. Wenn jede:r pünktlich zur ei
 ngetragenen Zeit vor Ort ist\, ist dies nur ein kleiner Beitrag\, den Ihr 
 für unsere große gemeinsame Sache leisten könnt.\n\nLos geht’s offizi
 ell um 18.45 bis 22.00 Uhr – erste Schicht wäre um 18.30\n\nWer darübe
 r hinaus zu Auf- oder Abbau Zeiten helfen kann\, ist herzlich willkommen.\
 n\nVielen Dank für Eure Unterstützung\n\nEuer Vorstand von 21malDREI
ATTACH;FMTTYPE=image/jpeg:https://www.21maldrei.de/wp-content/uploads/2026
 /02/Dream-Night-Standbetreuung-206.jpg
LOCATION:Zoo Frankfurt\, Bernhard-Grzimek-Allee 1\, Frankfurt am Main\,  60
 316\, Deutschland
X-APPLE-STRUCTURED-LOCATION;VALUE=URI;X-ADDRESS=Bernhard-Grzimek-Allee 1\, 
 Frankfurt am Main\,  60316\, Deutschland;X-APPLE-RADIUS=100;X-TITLE=Zoo Fr
 ankfurt:geo:0,0
END:VEVENT
BEGIN:VTIMEZONE
TZID:Europe/Berlin
X-LIC-LOCATION:Europe/Berlin
BEGIN:DAYLIGHT
DTSTART:20260329T030000
TZOFFSETFROM:+0100
TZOFFSETTO:+0200
TZNAME:CEST
END:DAYLIGHT
END:VTIMEZONE
END:VCALENDAR