BEGIN:VCALENDAR
VERSION:2.0
PRODID:-//wp-events-plugin.com//7.2.3.1//EN
TZID:Europe/Berlin
X-WR-TIMEZONE:Europe/Berlin
BEGIN:VEVENT
UID:68@21maldrei.de
DTSTART;TZID=Europe/Berlin:20261112T200000
DTEND;TZID=Europe/Berlin:20261112T220000
DTSTAMP:20260311T213342Z
URL:https://www.21maldrei.de/events/dritter-online-abend-frag-denise-2026/
SUMMARY:Dritter Online-Abend "Frag Denise" 2026 - Logopädie\, Wahrnehmung\
 , Verhalten
DESCRIPTION:Frag Denise – Ein Online-Abend mit Denise Hönninger\nSprache
 ntwicklung und Kommunikation bei Kindern mit Down-Syndrom und anderen Behi
 nderungen\n\nDie Sprachentwicklung und Kommunikationsfähigkeit von Kinder
 n mit Down-Syndrom verläuft häufig nach ganz eigenen Regeln\, die sich d
 eutlich von denen neurotypischer Kinder unterscheiden. Herausforderungen w
 ie sensorische Integrationsschwierigkeiten\, Hypotonie\, Dyspraxie oder an
 dere Beeinträchtigungen können den Spracherwerb erheblich beeinflussen.\
 n\nDenise Hönninger\, eine engagierte und erfahrene Logopädin\, arbeitet
  seit über einem Jahrzehnt intensiv mit Kindern mit Behinderungen. Ihre S
 pezialisierung auf die Sprachtherapie für Babys\, Kinder und Jugendliche 
 mit Behinderungen hat ihr tiefe Einblicke und umfassende Erfahrungen ermö
 glicht. Durch ihre langjährige Tätigkeit im Therapiezentrum Iven in Baie
 rsbronn durfte sie unzählige Kinder ein Stück weit auf ihrem Entwicklung
 sweg begleitet und hat neben einem einzigartigen Gespür für ihre kleinen
  Klienten\, eine besondere Expertise in der Unterstützung individueller e
 ffektiver Förderung erworben.\n\nMit viel Herz und Einfühlungsvermögen 
 versteht es Denise\, die Perspektiven der Kinder zu erfassen und Eltern so
 wie Fachkräften zu vermitteln\, wie neurodivergente oder kognitiv beeintr
 ächtigte Kinder lernen\, verstehen\, verarbeiten und kommunizieren. Ihre 
 Verbindung von Empathie und fachlicher Kompetenz führt zu innovativen Ans
 ätzen\, die die Kommunikation zwischen Eltern und Kindern und Ihrer Umwel
 t verbessern und das gegenseitige Verständnis fördern.\n\nUnsere offene 
 Fragerunde bietet:\n\n 	Einer begrenzten Teilnehmerzahl einen geschützten
  Rahmen\, um Fragen oder Sorgen zur Sprachentwicklung und Kommunikation\, 
 Herausforderungen im Alltag oder auch zur adäquaten Förderungen zu stell
 en.\n 	Raum für AssistentInnen\, PädagogInnen und BetreuerInnen\, die me
 hr über die speziellen Bedürfnisse der ihnen anvertrauten Kinder erfahre
 n möchten.\n 	Fachlichen Austausch für LogopädInnen\, die ihr Wissen ü
 ber die besonderen logopädischen Anforderungen von Kindern mit Behinderun
 gen vertiefen möchten.\n\nDieser Abend gestaltet sich jedes Mal durch die
  aktuelle Fragestellung der Teilnehmenden neu und verspricht auch bei wied
 erholter Teilnahme immer wieder spannende\, neue und hilfreiche Erkenntnis
 se für die eigenen Herausforderungen in der persönlichen Situation.\n\n!
  Da dieser Abend vom gegenseitigen Respekt und Vertrauen geprägt ist und 
 wir allen Teilnehmenden ein angenehmes Gefühl für die Platzierung der ei
 genen Herausforderungen bieten möchten\, wird dieser Online Abend nicht a
 ufgezeichnet.
ATTACH;FMTTYPE=image/jpeg:https://www.21maldrei.de/wp-content/uploads/2026
 /01/Frag-Denise-November-2026.jpg
END:VEVENT
BEGIN:VTIMEZONE
TZID:Europe/Berlin
X-LIC-LOCATION:Europe/Berlin
BEGIN:STANDARD
DTSTART:20261025T020000
TZOFFSETFROM:+0200
TZOFFSETTO:+0100
TZNAME:CET
END:STANDARD
END:VTIMEZONE
END:VCALENDAR