BEGIN:VCALENDAR
VERSION:2.0
PRODID:-//wp-events-plugin.com//7.2.3.1//EN
TZID:Europe/Berlin
X-WR-TIMEZONE:Europe/Berlin
BEGIN:VEVENT
UID:56@21maldrei.de
DTSTART;TZID=Europe/Berlin;VALUE=DATE:20251101
DTEND;TZID=Europe/Berlin;VALUE=DATE:20251102
DTSTAMP:20251101T120245Z
URL:https://www.21maldrei.de/events/dyspraxie-seminar-2025/
SUMMARY:Dyspraxie Seminar mit Denise Hönninger
DESCRIPTION:Wenn Entwicklungsschritte plötzlich wieder verschwinden\n– D
 yspraxie verstehen und erkennen\nManche Kinder lernen Worte\, Handlungen o
 der Bewegungsabläufe – und verlieren sie wieder. Was gestern noch selbs
 tverständlich gelang\, scheint heute wie ausgelöscht. Für Eltern ist da
 s oft verwirrend und schmerzhaft zugleich. Sie spüren: Mein Kind möchte 
 sich ausdrücken – aber irgendetwas blockiert.\n\nNicht selten hören Fa
 milien dann Sätze wie „Das wird sich schon geben“ oder „Diese Kinde
 r brauchen einfach länger.“ Doch wenn Fortschritte immer wieder verlore
 n gehen oder Förderprozesse stagnieren\, steckt häufig mehr dahinter als
  nur eine verzögerte Entwicklung.\nWenn die Ursache tiefer liegt\nGerade 
 bei Kindern mit Behinderungen werden Sprachprobleme oft vorschnell der Gru
 nderkrankung zugeschrieben – eine gezielte sprachdiagnostische Untersuch
 ung findet selten statt. Dabei kann sich hinter diesen Symptomen eine Dysp
 raxie verbergen: eine Störung\, bei der das Gehirn Schwierigkeiten hat\, 
 Bewegungs- oder Sprechabläufe zu planen und gezielt auszuführen.\n\nDies
 e Form der Sprechstörung bleibt oft unerkannt. Fachkräfte interpretieren
  das Verhalten nicht selten als „fehlende Konzentration“ oder „mange
 lnde Motivation“. Die Folge: wertvolle Zeit für eine passende Therapie 
 geht verloren – und damit auch Chancen auf Entwicklungsschritte\, die ei
 gentlich möglich wären.\nWarum frühes Erkennen so wichtig ist\nEine Dys
 praxie – ob sprachlich oder motorisch – erfordert eine spezielle Heran
 gehensweise. Klassische Sprach- oder Bewegungstherapien greifen hier nur b
 edingt. Erst wenn klar ist\, dass die Ursache in der Bewegungsplanung lieg
 t\, kann gezielt gefördert werden. Mit dem richtigen Wissen und passender
  Unterstützung sind dann erstaunliche Fortschritte möglich – für Kind
 er\, Eltern und Therapeut:innen gleichermaßen.\nSeminar: Dyspraxie verste
 hen\n– Wege zu klarer Diagnose und gezielter Förderung\nDieses Seminar 
 möchte aufklären\, Mut machen und Orientierung geben.\nTeilnehmende erfa
 hren:\n• wie Dyspraxie entsteht und woran man sie erkennt\,\n• warum d
 ie Diagnostik bei Kindern mit Behinderung oft eine besondere Herausforderu
 ng ist\,\n• wie Diagnostik und Therapie sinnvoll ineinandergreifen\,\n
 • und welche Möglichkeiten es gibt\, Kinder im Alltag gezielt zu unters
 tützen.\n\nNeben fundiertem theoretischem Wissen legt das Seminar den Fok
 us auf praxisnahe Impulse: Eltern erhalten alltagstaugliche Anregungen zur
  Begleitung ihres Kindes\, Fachkräfte bekommen wertvolle Hinweise für di
 e tägliche Arbeit mit betroffenen Kindern.\nAustausch\, Verständnis und 
 Zusammenarbeit\nKinder mit Dyspraxie brauchen ein stabiles Umfeld\, in dem
  alle an einem Strang ziehen – Eltern\, Therapeut:innen und Pädagog:inn
 en. Gemeinsame Ziele\, offener Austausch und Geduld bilden das Fundament f
 ür Fortschritt. Im Seminar ist Raum für persönliche Fragen\, ehrlichen 
 Austausch und gemeinsame Lösungsansätze. So entsteht ein Netzwerk\, das 
 trägt – und Kindern hilft\, ihre Fähigkeiten Schritt für Schritt zu e
 ntfalten.\nUnsere Referentin: Denise Hönninger\nDenise Hönninger ist Log
 opädin mit über zehn Jahren Erfahrung in der Arbeit mit Kindern mit Behi
 nderungen und deren Familien. Schon während ihrer Ausbildung in Baden-Bad
 en entdeckte sie ihre Leidenschaft für diesen Beruf – eine Leidenschaft
 \, die weit über reine Therapiearbeit hinausgeht. Ihre Zeit im Therapieze
 ntrum Iven in Baiersbronn prägte sie entscheidend: Hier lernte sie\, übe
 r den logopädischen Tellerrand hinauszublicken und individuelle Wege zu f
 inden\, wo andere Grenzen sahen.\n\nHeute lebt und arbeitet sie in ihrer H
 eimat\, der Ortenau\, und hat mit „These Little Talks“ eine Plattform 
 geschaffen\, die Aufklärung\, Austausch und konkrete Unterstützung für 
 Familien mit Kindern mit Behinderung bietet. Ihr Anliegen ist es\, Hilflos
 igkeit in Handlungssicherheit zu verwandeln\, Eltern zu stärken und inklu
 sive Perspektiven zu fördern.\n\nMit ihrem tiefen Fachwissen\, ihrer Erfa
 hrung und ihrer empathischen Art inspiriert Denise Hönninger Eltern\, The
 rapeut:innen und Pädagog:innen gleichermaßen – immer mit dem Ziel\, En
 twicklung möglich zu machen\, wo sie zunächst unmöglich scheint.\nVeran
 staltungsdetails\nDatum: Samstag\, 01. November 2025\nUhrzeit: 10:00 – c
 a. 15:00 Uhr\nOrt: SAALBAU Ronneburg\, Gelnhäuser Str. 2\, 60435 Frankfur
 t am Main\n\nIm ersten Teil des Seminars erhalten wir wertvolle Einblicke 
 in die Thematik durch unsere Referentin Denise Hönninger.\n\nNach einer k
 leinen Lunchbreak – für Speisen &amp\; Getränke ist gesorgt – gibt e
 s Zeit für individuelle Fragen und persönlichen Austausch.\n\nWir bitten
  um rechtzeitiges Erscheinen\, damit wir pünktlich in das Seminar starten
  können.
ATTACH;FMTTYPE=image/jpeg:https://www.21maldrei.de/wp-content/uploads/2025
 /03/PHOTO-2025-10-22-13-09-51-1.jpg
LOCATION:Saalbau Ronneburg\, Gelnhäuser Straße 2\, Frankfurt am Main\, He
 ssen\, 60435\, Deutschland
X-APPLE-STRUCTURED-LOCATION;VALUE=URI;X-ADDRESS=Gelnhäuser Straße 2\, Fra
 nkfurt am Main\, Hessen\, 60435\, Deutschland;X-APPLE-RADIUS=100;X-TITLE=S
 aalbau Ronneburg:geo:0,0
END:VEVENT
BEGIN:VTIMEZONE
TZID:Europe/Berlin
X-LIC-LOCATION:Europe/Berlin
BEGIN:STANDARD
DTSTART:20251026T020000
TZOFFSETFROM:+0200
TZOFFSETTO:+0100
TZNAME:CET
END:STANDARD
END:VTIMEZONE
END:VCALENDAR