BEGIN:VCALENDAR
VERSION:2.0
PRODID:-//wp-events-plugin.com//7.2.3.1//EN
TZID:Europe/Berlin
X-WR-TIMEZONE:Europe/Berlin
BEGIN:VEVENT
UID:27@21maldrei.de
DTSTART;TZID=Europe/Berlin:20240907T093000
DTEND;TZID=Europe/Berlin:20240907T160000
DTSTAMP:20240612T213720Z
URL:https://www.21maldrei.de/events/effektive-foerderung-fuer-kinder-mit-b
 ehinderung/
SUMMARY:Seminar Effektive Förderung für Kinder mit Behinderung
DESCRIPTION:Um Kinder mit Down-Syndrom auch im häuslichen Kontext effektiv
  zu fördern\, ist es wichtig zum einen die Symptomatik des Syndroms richt
 ig zu beleuchten und zum anderen diese in Relation zur kindlichen Entwickl
 ung im Allgemeinen zu setzen. Hier kann dann das Fundament von Förderung 
 und individueller Unterstützung der Kinder entstehen.\n\nDaneben geht es 
 in diesem Seminar natürlich auch um logopädische Inhalte. Zum Beispiel w
 arum nicht jedes Therapiekonzept für jedes Kind gleich geeignet ist und w
 ie man die Entscheidung für den oder die richtige:n Therapeut:in trifft. 
 Warum frühe therapeutische Unterstützung anzuraten ist und wie diese aus
 sehen kann. Weiter auch warum Therapieziele immer individuell angepasst\, 
 nicht aus dem Blick verloren und regelmäßig mit den behandelnden Therape
 uten besprochen werden müssen.\n\nWenn wir über die Sprachentwicklung de
 r Kinder sprechen\, kommen wir nicht umhin auch auf die Basis der Symptoma
 tik zu schauen. Fragen die wir vertiefen werden\, sind unter anderem: Waru
 m wir Hypotonie und die damit einhergehenden Veränderungen der Wahrnehmun
 g der Kinder auch im sprachlichen Kontext nicht unterschätzen dürfen. Wa
 rum ritualisiertes Arbeiten hilft und das Erlernen von Basisfertigkeiten\,
  wie Triangulieren\, Ausdauer und Konzentration das häusliche Fördern de
 utlich vereinfachen werden.\n\nDurch die Vielfältigkeit dieser Themen fü
 hrt uns Denise Hönninger und schafft dabei immer wieder Raum für Fragen 
 rund um die Themen: Förderung\, Logopädie\, Herausforderungen des Alltag
 s!\n\nIm Nachgang zu dem Seminar gibt es noch die Q&amp\;A Veranstaltung "
 Let's talk" am 30.09.2024 um offene Fragen zu klären.\n\nÜber die Refere
 ntin: Das Seminar wird von Denise Hönninger angeboten. Sie ist seit über
  10 Jahren Logopädin und sieht ihren Schwerpunkt klar in der Arbeit mit K
 indern mit Behinderung.\n\nDoch nicht nur das: Durch die große Expertise 
 der letzten Jahre sieht sie die Wichtigkeit in der Unterstützung von Erzi
 ehenden\, sowie der Beratung von Kolleg:innen und Pädagog:innen. Fragen\,
  Ideen und Impulse rund um die Themen Logopädie\, Herausforderungen im Al
 ltag und adäquate Förderung finden bei ihr einen Platz.\n\nIm April 2022
  macht sie mit der Gründung THESE LITTLE TALKS ein Herzensprojekt wahr u
 nd vermittelt so noch mehr Wissen und schärft den Blick von Menschen\, di
 e mit Kindern mit Behinderung leben\, arbeiten oder auf andere Art das gro
 ße Glück haben deren Reise zu begleiten.\n\nBei dem Seminar handelt es s
 ich um ein Präsenz-Seminar in Frankfurt inklusive Verpflegung für alle T
 eilnehmer. Kurzfristige Änderungen am genauen Start-Zeitpunkt sind noch m
 öglich und werden ggf. vor Beginn noch bekannt gegeben.\n\nKosten: Das Se
 minar wird für unsere Mitglieder zu einem reduzierten Kostenbeitrag angeb
 oten (entsprechender Gutschein-Code wird Mitgliedern auf den üblichen Weg
 en bekannt gegeben).\n\nGefördert durch die AOK – Die Gesundheitskasse 
 in Hessen und mit freundlicher Unterstützung durch den Verein Freunde Hel
 fen e.V.\n\n
ATTACH;FMTTYPE=image/jpeg:https://www.21maldrei.de/wp-content/uploads/2024
 /03/Seminar-Effektive-Foerderung-fuer-Kinder-mit-Behinderung.jpg
LOCATION:Saalbau Ronneburg\, Gelnhäuser Straße 2\, Frankfurt am Main\, He
 ssen\, 60435\, Deutschland
X-APPLE-STRUCTURED-LOCATION;VALUE=URI;X-ADDRESS=Gelnhäuser Straße 2\, Fra
 nkfurt am Main\, Hessen\, 60435\, Deutschland;X-APPLE-RADIUS=100;X-TITLE=S
 aalbau Ronneburg:geo:0,0
END:VEVENT
BEGIN:VTIMEZONE
TZID:Europe/Berlin
X-LIC-LOCATION:Europe/Berlin
BEGIN:DAYLIGHT
DTSTART:20240331T030000
TZOFFSETFROM:+0100
TZOFFSETTO:+0200
TZNAME:CEST
END:DAYLIGHT
END:VTIMEZONE
END:VCALENDAR