BEGIN:VCALENDAR
VERSION:2.0
PRODID:-//wp-events-plugin.com//7.2.3.1//EN
TZID:Europe/Berlin
X-WR-TIMEZONE:Europe/Berlin
BEGIN:VEVENT
UID:78@21maldrei.de
DTSTART;TZID=Europe/Berlin:20260507T203000
DTEND;TZID=Europe/Berlin:20260507T220000
DTSTAMP:20260312T154015Z
URL:https://www.21maldrei.de/events/eingliederungshilfe-antrag-bis-entsche
 idung-2026/
SUMMARY:Seminarreihe Eingliederungshilfe: Vom Antrag bis zur Entscheidung
DESCRIPTION:21malDREI – KOMPAKTREIHE EINGLIEDERUNGSHILFE\n\nOnline-Semina
 rreihe für Eltern von Kindern mit Behinderung\n\nEltern von Kindern mit B
 ehinderung stehen oft früh vor einem komplexen System aus Anträgen\, Zus
 tändigkeiten und rechtlichen Begriffen. Gerade im Bereich der Eingliederu
 ngshilfe entscheidet jedoch häufig das Wissen über die richtigen Schritt
 e darüber\, ob Kinder tatsächlich die Unterstützung erhalten\, die ihne
 n zusteht.\n\nUnsere 21malDREI-Kompaktreihe Eingliederungshilfe richtet si
 ch besonders an Familien von Kindern mit Down-Syndrom\, ist aber ebenso f
 ür Eltern von Kindern mit anderen Behinderungen relevant. Die Inhalte ori
 entieren sich an typischen Fragestellungen aus der Praxis im Rhein-Main-Ge
 biet\, lassen sich jedoch auf viele Situationen in ganz Deutschland übert
 ragen.\n\nSeminare wie diese sind so wichtig\, weil viele Familien zunäch
 st allein versuchen\, sich durch das Sozialrecht zu navigieren. Begriffe w
 ie Bedarfsermittlung\, Teilhabeplan\, Schulbegleitung oder Persönliches B
 udget wirken oft abstrakt – haben aber unmittelbare Auswirkungen auf den
  Alltag der Kinder. Wer das System versteht\, kann frühzeitig die richtig
 en Anträge stellen\, Entscheidungen prüfen und Leistungen aktiv mitgesta
 lten.\n\nUnsere Reihe vermittelt daher praxisnahes Wissen\, konkrete Handl
 ungsschritte und typische Strategien aus der Beratungspraxis – kompakt\,
  verständlich und mit Raum für Fragen.\n\nDie drei Termine bauen inhaltl
 ich aufeinander auf und orientieren sich am realen Weg vieler Familien:\nA
 nsprüche verstehen → Anträge stellen → Gestaltungsspielräume nutzen
 .\n\nWichtig:\nAuch wenn die Seminare aufeinander aufbauen\, können sie s
 elbstverständlich unabhängig voneinander besucht werden. Jede Veranstalt
 ung ist so aufgebaut\, dass sie für sich verständlich und praxisrelevant
  ist.\n\nTermin 2: Vom Antrag bis zur Entscheidung: Wie wird ein Antrag ge
 stellt und wie bleiben Eltern handlungsfähig\, wenn nicht die beantrage L
 eistung gewährt wird\n\nDatum: 07.05.2026 – 20:30 Uhr\n\nZiel: Eltern l
 ernen die „Sprache“ der Behörden und meistern souverän den Umgang mi
 t den Behörden.\n\n 	Antrag: Ablauf\, Unterlagen\, 5 häufige Fehler verm
 eiden\n 	Kurze Hinweise zur Bedarfsermittlung\n 	Bescheid lesen: was ist a
 ngreifbar\, was ist nur „Blabla“?\n 	Fristen\, Widerspruchslogik\, tak
 tisches Vorgehen\n 	häufige Ablehnungsargumente &amp\; passende Gegenargu
 mente\n 	Nachsteuerung bei Schulbegleitung/I-Kraft: Qualität sichern ohne
  Eskalation\n\nOutcome: „Leitfaden für Antrag und Widerspruchs-Notfallp
 lan mit Formulierungshilfen“\n\n \n\nUNSERE REFERENTIN:\n\nRechtsanwäl
 tin Stella Keil ist Fachanwältin für Sozialrecht mit langjähriger Erfah
 rung in der Beratung und Vertretung von Menschen mit Behinderung und ihren
  Familien.\n\nSie begleitet Mandantinnen und Mandanten insbesondere in Fra
 gen des Rehabilitations- und Teilhaberechts\, bei Übergängen zwischen Le
 istungssystemen sowie in Kostenbeitragsangelegenheiten.\n\n2025 wurde sie 
 erneut vom Nachrichtenmagazin FOCUS in die Liste der Top-Anwälte im Berei
 ch Sozialrecht aufgenommen.\n\nNeben ihrer anwaltlichen Tätigkeit hält s
 ie regelmäßig Vorträge und publiziert zu aktuellen Themen des Sozialrec
 hts.\n\nWeitere Informationen:\n\nhttps://www.ra-keil.info/\n\n \n\nVeran
 staltungsdetails\n\nFormat: Online-Seminar\nDauer: ca. 90 Minuten inkl. Fr
 agerunde\n\nTeilnahmegebühren\n\n 	Teilnahme je Online-Seminar: 20 €\n 
 	Teilnahme je Online-Seminar für Mitglieder: 5 € (Buchung nur nach Logi
 n möglich)\n\nWir freuen uns auf einen informativen und praxisnahen Abend
  mit euch.\n\nEuer Vorstand von 21malDREI
ATTACH;FMTTYPE=image/jpeg:https://www.21maldrei.de/wp-content/uploads/2026
 /03/Eingliederungshilfe-vom-Antrag-zur-Entscheidung-2026.jpeg
END:VEVENT
BEGIN:VTIMEZONE
TZID:Europe/Berlin
X-LIC-LOCATION:Europe/Berlin
BEGIN:DAYLIGHT
DTSTART:20260329T030000
TZOFFSETFROM:+0100
TZOFFSETTO:+0200
TZNAME:CEST
END:DAYLIGHT
END:VTIMEZONE
END:VCALENDAR