BEGIN:VCALENDAR
VERSION:2.0
PRODID:-//wp-events-plugin.com//7.2.3.1//EN
TZID:Europe/Berlin
X-WR-TIMEZONE:Europe/Berlin
BEGIN:VEVENT
UID:79@21maldrei.de
DTSTART;TZID=Europe/Berlin:20260618T203000
DTEND;TZID=Europe/Berlin:20260618T220000
DTSTAMP:20260312T150730Z
URL:https://www.21maldrei.de/events/eingliederungshilfe-persoenliches-budg
 et-2026/
SUMMARY:Seminarreihe Eingliederungshilfe: Persönliches Budget
DESCRIPTION:21malDREI – KOMPAKTREIHE EINGLIEDERUNGSHILFE\n\nOnline-Semina
 rreihe für Eltern von Kindern mit Behinderung\n\nEltern von Kindern mit B
 ehinderung stehen oft früh vor einem komplexen System aus Anträgen\, Zus
 tändigkeiten und rechtlichen Begriffen. Gerade im Bereich der Eingliederu
 ngshilfe entscheidet jedoch häufig das Wissen über die richtigen Schritt
 e darüber\, ob Kinder tatsächlich die Unterstützung erhalten\, die ihne
 n zusteht.\n\nUnsere 21malDREI-Kompaktreihe Eingliederungshilfe richtet si
 ch besonders an Familien von Kindern mit Down-Syndrom\, ist aber ebenso f
 ür Eltern von Kindern mit anderen Behinderungen relevant. Die Inhalte ori
 entieren sich an typischen Fragestellungen aus der Praxis im Rhein-Main-Ge
 biet\, lassen sich jedoch auf viele Situationen in ganz Deutschland übert
 ragen.\n\nSeminare wie diese sind so wichtig\, weil viele Familien zunäch
 st allein versuchen\, sich durch das Sozialrecht zu navigieren. Begriffe w
 ie Bedarfsermittlung\, Teilhabeplan\, Schulbegleitung oder Persönliches B
 udget wirken oft abstrakt – haben aber unmittelbare Auswirkungen auf den
  Alltag der Kinder. Wer das System versteht\, kann frühzeitig die richtig
 en Anträge stellen\, Entscheidungen prüfen und Leistungen aktiv mitgesta
 lten.\n\nUnsere Reihe vermittelt daher praxisnahes Wissen\, konkrete Handl
 ungsschritte und typische Strategien aus der Beratungspraxis – kompakt\,
  verständlich und mit Raum für Fragen.\n\nDie drei Termine bauen inhaltl
 ich aufeinander auf und orientieren sich am realen Weg vieler Familien:\nA
 nsprüche verstehen → Anträge stellen → Gestaltungsspielräume nutzen
 .\n\nWichtig:\nAuch wenn die Seminare aufeinander aufbauen\, können sie s
 elbstverständlich unabhängig voneinander besucht werden. Jede Veranstalt
 ung ist so aufgebaut\, dass sie für sich verständlich und praxisrelevant
  ist.\n\nTermin 3: Persönliches Budget für Kinder &amp\; Jugendliche\n\n
 Datum: 18.06.2026 – 20:30 Uhr\n\nZiel: Familien können entscheiden\, ob
  Budget zu ihnen passt und wie man es sauber aufsetzt.\nInhalte:\n\n 	Pers
 önliches Budget vs. Sachleistung (Vor- &amp\; Nachteile ehrlich)\n 	Für 
 wen lohnt es sich besonders? (z. B. Assistenz\, Flexibilität\, Wunschleis
 tungserbringer)\n 	Umsetzung in der Praxis: Abrechnung\, Nachweise\, Organ
 isation\n 	typische Stolperfallen &amp\; wie man sie vermeidet\n\nOutcome:
  „Entscheidungshilfe + Startplan Persönliches Budget“\n\n \n\nUNSERE
  REFERENTIN:\n\nRechtsanwältin Stella Keil ist Fachanwältin für Sozialr
 echt mit langjähriger Erfahrung in der Beratung und Vertretung von Mensch
 en mit Behinderung und ihren Familien.\n\nSie begleitet Mandantinnen und M
 andanten insbesondere in Fragen des Rehabilitations- und Teilhaberechts\, 
 bei Übergängen zwischen Leistungssystemen sowie in Kostenbeitragsangeleg
 enheiten.\n\n2025 wurde sie erneut vom Nachrichtenmagazin FOCUS in die Lis
 te der Top-Anwälte im Bereich Sozialrecht aufgenommen.\n\nNeben ihrer anw
 altlichen Tätigkeit hält sie regelmäßig Vorträge und publiziert zu ak
 tuellen Themen des Sozialrechts.\n\nWeitere Informationen:\n\nhttps://www.
 ra-keil.info/\nVeranstaltungsdetails\nFormat: Online-Seminar\nDauer: ca. 9
 0 Minuten inkl. Fragerunde\n\nTeilnahmegebühren\n\n 	Teilnahme je Online-
 Seminar: 20 €\n 	Teilnahme je Online-Seminar für Mitglieder: 5 € (Buc
 hung nur nach Login möglich)\n\nWir freuen uns auf einen informativen und
  praxisnahen Abend mit euch.\n\nEuer Vorstand von 21malDREI
ATTACH;FMTTYPE=image/jpeg:https://www.21maldrei.de/wp-content/uploads/2026
 /03/Eingliederungshilfe-Persoenliches-Budget-2026.jpeg
END:VEVENT
BEGIN:VTIMEZONE
TZID:Europe/Berlin
X-LIC-LOCATION:Europe/Berlin
BEGIN:DAYLIGHT
DTSTART:20260329T030000
TZOFFSETFROM:+0100
TZOFFSETTO:+0200
TZNAME:CEST
END:DAYLIGHT
END:VTIMEZONE
END:VCALENDAR