BEGIN:VCALENDAR
VERSION:2.0
PRODID:-//wp-events-plugin.com//7.2.3.1//EN
TZID:Europe/Berlin
X-WR-TIMEZONE:Europe/Berlin
BEGIN:VEVENT
UID:77@21maldrei.de
DTSTART;TZID=Europe/Berlin:20260416T203000
DTEND;TZID=Europe/Berlin:20260416T220000
DTSTAMP:20260312T145915Z
URL:https://www.21maldrei.de/events/eingliederungshilfe-schule-und-kita-20
 26/
SUMMARY:Seminarreihe Eingliederungshilfe: Eingliederungshilfe bei Kindern u
 nd Jugendlichen
DESCRIPTION:21malDREI – KOMPAKTREIHE EINGLIEDERUNGSHILFE\n\nOnline-Semina
 rreihe für Eltern von Kindern mit Behinderung\n\nEltern von Kindern mit B
 ehinderung stehen oft früh vor einem komplexen System aus Anträgen\, Zus
 tändigkeiten und rechtlichen Begriffen. Gerade im Bereich der Eingliederu
 ngshilfe entscheidet jedoch häufig das Wissen über die richtigen Schritt
 e darüber\, ob Kinder tatsächlich die Unterstützung erhalten\, die ihne
 n zusteht.\n\nUnsere 21malDREI-Kompaktreihe Eingliederungshilfe richtet si
 ch besonders an Familien von Kindern mit Down-Syndrom\, ist aber ebenso f
 ür Eltern von Kindern mit anderen Behinderungen relevant. Die Inhalte ori
 entieren sich an typischen Fragestellungen aus der Praxis im Rhein-Main-Ge
 biet\, lassen sich jedoch auf viele Situationen in ganz Deutschland übert
 ragen.\n\nSeminare wie diese sind so wichtig\, weil viele Familien zunäch
 st allein versuchen\, sich durch das Sozialrecht zu navigieren. Begriffe w
 ie Bedarfsermittlung\, Teilhabeplan\, Schulbegleitung oder Persönliches B
 udget wirken oft abstrakt – haben aber unmittelbare Auswirkungen auf den
  Alltag der Kinder. Wer das System versteht\, kann frühzeitig die richtig
 en Anträge stellen\, Entscheidungen prüfen und Leistungen aktiv mitgesta
 lten.\n\nUnsere Reihe vermittelt daher praxisnahes Wissen\, konkrete Handl
 ungsschritte und typische Strategien aus der Beratungspraxis – kompakt\,
  verständlich und mit Raum für Fragen.\n\nDie drei Termine bauen inhaltl
 ich aufeinander auf und orientieren sich am realen Weg vieler Familien:\nA
 nsprüche verstehen → Anträge stellen → Gestaltungsspielräume nutzen
 .\n\nWichtig:\nAuch wenn die Seminare aufeinander aufbauen\, können sie s
 elbstverständlich unabhängig voneinander besucht werden. Jede Veranstalt
 ung ist so aufgebaut\, dass sie für sich verständlich und praxisrelevant
  ist.\n\n \n\nTermin 1: Eingliederungshilfe bei Kindern &amp\; Jugendlich
 en (Kita &amp\; Schule)\n\nDatum: 16.04.2026 – 20:30 Uhr\n\nZiel: Eltern
  verstehen das System und wissen\, wie sie starten oder nachsteuern.\nInha
 lte (kompakt &amp\; nützlich):\n\n 	Was fällt alles unter Eingliederungs
 hilfe bei jungen Kindern?\n 	Zuständigkeiten (wer zahlt was – und warum
  es oft kompliziert wird)\n 	typische Leistungen: Kita/Schule/Teilhabe/Ass
 istenz\n\nOutcome: Eltern erhalten einen Überblick über mögliche Anspr
 üche ihrer Kinder im Eingliederungshilferecht\n\n \n\nUNSERE REFERENTIN:
 \n\nRechtsanwältin Stella Keil ist Fachanwältin für Sozialrecht mit lan
 gjähriger Erfahrung in der Beratung und Vertretung von Menschen mit Behin
 derung und ihren Familien.\n\nSie begleitet Mandantinnen und Mandanten ins
 besondere in Fragen des Rehabilitations- und Teilhaberechts\, bei Übergä
 ngen zwischen Leistungssystemen sowie in Kostenbeitragsangelegenheiten.\n\
 n2025 wurde sie erneut vom Nachrichtenmagazin FOCUS in die Liste der Top-A
 nwälte im Bereich Sozialrecht aufgenommen.\n\nNeben ihrer anwaltlichen T
 ätigkeit hält sie regelmäßig Vorträge und publiziert zu aktuellen The
 men des Sozialrechts.\n\nWeitere Informationen:\n\nhttps://www.ra-keil.inf
 o/\n\n \n\nVeranstaltungsdetails\n\nFormat: Online-Seminar\nDauer: jeweil
 s ca. 90 Minuten inkl. Fragerunde\n\nTeilnahmegebühren\n\n 	Teilnahme je 
 Online-Seminar: 20 €\n 	Teilnahme je Online-Seminar für Mitglieder: 5 
 € (Buchung nur nach Login möglich)\n\nWir freuen uns auf einen informa
 tiven und praxisnahen Abend mit euch.\n\nEuer Vorstand von 21malDREI
ATTACH;FMTTYPE=image/jpeg:https://www.21maldrei.de/wp-content/uploads/2026
 /03/Eingliederungshilfe-bei-Kindern-und-Jugendlichen-2026.jpeg
END:VEVENT
BEGIN:VTIMEZONE
TZID:Europe/Berlin
X-LIC-LOCATION:Europe/Berlin
BEGIN:DAYLIGHT
DTSTART:20260329T030000
TZOFFSETFROM:+0100
TZOFFSETTO:+0200
TZNAME:CEST
END:DAYLIGHT
END:VTIMEZONE
END:VCALENDAR