BEGIN:VCALENDAR
VERSION:2.0
PRODID:-//wp-events-plugin.com//7.2.3.1//EN
TZID:Europe/Berlin
X-WR-TIMEZONE:Europe/Berlin
BEGIN:VEVENT
UID:25@21maldrei.de
DTSTART;TZID=Europe/Berlin:20240516T200000
DTEND;TZID=Europe/Berlin:20240516T220000
DTSTAMP:20240612T211624Z
URL:https://www.21maldrei.de/events/erster-online-abend-frag-denise-2024/
SUMMARY:Erster Online-Abend "Frag Denise" 2024
DESCRIPTION:Unter dem Motto: "Frag Denise" bieten wir einer begrenzten Teil
 nehmerzahl den Raum\, die Zeit und einen geschützten Rahmen für all die 
 Fragen\, die uns in unserem Alltag als Eltern eines Kindes mit Down-Syndro
 m beschäftigen.\n\nReduzierter Kostenbeitrag für unsere Mitglieder (ents
 prechender Gutschein-Code wird Mitgliedern auf den üblichen Wegen bekannt
  gegeben).Über die Referentin:\n\nDenise Hönninger  ist seit über 10 J
 ahren Logopädin und sieht ihren Schwerpunkt klar in der Arbeit mit Kinder
 n mit Behinderung.\n\nDoch nicht nur das: Durch die große Expertise der l
 etzten Jahre sieht sie die Wichtigkeit in der Unterstützung von Erziehend
 en\, sowie der Beratung von Kolleg:innen und Pädagog:innen. Fragen\, Idee
 n und Impulse rund um die Themen Logopädie\, Herausforderungen im Alltag 
 und adäquate Förderung finden bei ihr einen Platz.\n\nIm April 2022 mach
 t sie mit der Gründung THESE LITTLE TALKS ein Herzensprojekt wahr und ver
 mittelt so noch mehr Wissen und schärft den Blick von Menschen\, die mit 
 Kindern mit Behinderung leben\, arbeiten oder auf andere Art das große Gl
 ück haben deren Reise zu begleiten.\n\nGefördert durch die AOK – Die G
 esundheitskasse in Hessen.\n\n
ATTACH;FMTTYPE=image/jpeg:https://www.21maldrei.de/wp-content/uploads/2024
 /03/Frag-Denise-Mai.jpg
END:VEVENT
BEGIN:VTIMEZONE
TZID:Europe/Berlin
X-LIC-LOCATION:Europe/Berlin
BEGIN:DAYLIGHT
DTSTART:20240331T030000
TZOFFSETFROM:+0100
TZOFFSETTO:+0200
TZNAME:CEST
END:DAYLIGHT
END:VTIMEZONE
END:VCALENDAR