BEGIN:VCALENDAR
VERSION:2.0
PRODID:-//wp-events-plugin.com//7.2.3.1//EN
TZID:Europe/Berlin
X-WR-TIMEZONE:Europe/Berlin
BEGIN:VEVENT
UID:18@21maldrei.de
DTSTART;TZID=Europe/Berlin:20240218T153000
DTEND;TZID=Europe/Berlin:20240218T173000
DTSTAMP:20240523T212107Z
URL:https://www.21maldrei.de/events/familientreffen-februar-2024/
SUMMARY:1. Familientreffen 2024
DESCRIPTION:Ort: Backstrasse 16\, Offenbach
ATTACH;FMTTYPE=image/jpeg:https://www.21maldrei.de/wp-content/uploads/2024
 /01/5705584b-1f69-403d-919c-1773dd505e7f.jpeg
LOCATION:Rumänisch-orthodoxe Kirchengemeinde Offenbach/Main\, Backstraße 
 16\, Offenbach\, Hessen\, Deutschland
X-APPLE-STRUCTURED-LOCATION;VALUE=URI;X-ADDRESS=Backstraße 16\, Offenbach\
 , Hessen\, Deutschland;X-APPLE-RADIUS=100;X-TITLE=Rumänisch-orthodoxe Kir
 chengemeinde Offenbach/Main:geo:0,0
END:VEVENT
BEGIN:VTIMEZONE
TZID:Europe/Berlin
X-LIC-LOCATION:Europe/Berlin
BEGIN:STANDARD
DTSTART:20231029T020000
TZOFFSETFROM:+0200
TZOFFSETTO:+0100
TZNAME:CET
END:STANDARD
END:VTIMEZONE
END:VCALENDAR