BEGIN:VCALENDAR
VERSION:2.0
PRODID:-//wp-events-plugin.com//7.2.3.1//EN
TZID:Europe/Berlin
X-WR-TIMEZONE:Europe/Berlin
BEGIN:VEVENT
UID:2@21maldrei.de
DTSTART;TZID=Europe/Berlin:20230319T100000
DTEND;TZID=Europe/Berlin:20230319T140000
DTSTAMP:20240523T211436Z
URL:https://www.21maldrei.de/events/familientreffen-maerz-2023/
SUMMARY:21malDREI Familientreffen März
DESCRIPTION:Regelmäßiges Familientreffen\, jeden 3. Sonntag im Monat.\n\n
ATTACH;FMTTYPE=image/jpeg:https://www.21maldrei.de/wp-content/uploads/2024
 /01/6502ca28-40bf-4c85-8cbc-7f9207c797c0.jpg
LOCATION:Familienzentrum Westend Frankfurt\, Westendstraße 21\, Frankfurt\
 , 60325\, Deutschland
X-APPLE-STRUCTURED-LOCATION;VALUE=URI;X-ADDRESS=Westendstraße 21\, Frankfu
 rt\, 60325\, Deutschland;X-APPLE-RADIUS=100;X-TITLE=Familienzentrum Westen
 d Frankfurt:geo:0,0
END:VEVENT
BEGIN:VTIMEZONE
TZID:Europe/Berlin
X-LIC-LOCATION:Europe/Berlin
BEGIN:STANDARD
DTSTART:20221030T020000
TZOFFSETFROM:+0200
TZOFFSETTO:+0100
TZNAME:CET
END:STANDARD
END:VTIMEZONE
END:VCALENDAR