BEGIN:VCALENDAR
VERSION:2.0
PRODID:-//wp-events-plugin.com//7.2.3.1//EN
TZID:Europe/Berlin
X-WR-TIMEZONE:Europe/Berlin
BEGIN:VEVENT
UID:24@21maldrei.de
DTSTART;TZID=Europe/Berlin:20240526T100000
DTEND;TZID=Europe/Berlin:20240526T140000
DTSTAMP:20240521T215001Z
URL:https://www.21maldrei.de/events/familientreffen-mai-2024/
SUMMARY:Familientreffen Mai 2024
DESCRIPTION:Am 26.05.2024 ist es wieder so weit\, unser Familentreffen find
 et am Alten Flughafen Bonames ab 10 Uhr statt. \n\nDazu möchten wir Euch
  Herzlich einladen. \n\nWir würden uns über viele neue und alte Gesicht
 er freuen. \n\nFür die Kids ist viel Platz zum Spielen und Toben\, in de
 r Zeit können wir Großen uns bei einem Picknick austauschen. \n\n(Die A
 ufsichtspflicht während des Aufenthalts obliegt den Eltern)\n\nFür das l
 eibliche Wohl bitten wir Euch\, Essen\, Getränke und eine Decke mitzubrin
 gen. Vor Ort gibt es auch einen Kiosk mit kleinen Snacks und Getränken\,
   sowie WCs. \n\nParkmöglichkeiten sind ausreichend vorhanden.\n\nDie A
 nmeldung erfolgt über die Veranstaltungsbuchung auf der Webseite.\n\nAnbe
 i ein Link mit Anschrift und Wegbeschreibung. \n\nhttps://frankfurt.de/th
 emen/umwelt-und-gruen/orte/gruenguertel/ziele/interessante_orte/alter_flug
 platz
ATTACH;FMTTYPE=image/jpeg:https://www.21maldrei.de/wp-content/uploads/2024
 /03/21malDREI_Familientreffen_Bonames.jpeg
LOCATION:Alter Flugplatz Frankfurt Bonames\, Am Burghof 55\, Frankfurt am M
 ain\, 60437\, Deutschland
X-APPLE-STRUCTURED-LOCATION;VALUE=URI;X-ADDRESS=Am Burghof 55\, Frankfurt a
 m Main\, 60437\, Deutschland;X-APPLE-RADIUS=100;X-TITLE=Alter Flugplatz Fr
 ankfurt Bonames:geo:0,0
END:VEVENT
BEGIN:VTIMEZONE
TZID:Europe/Berlin
X-LIC-LOCATION:Europe/Berlin
BEGIN:DAYLIGHT
DTSTART:20240331T030000
TZOFFSETFROM:+0100
TZOFFSETTO:+0200
TZNAME:CEST
END:DAYLIGHT
END:VTIMEZONE
END:VCALENDAR