BEGIN:VCALENDAR
VERSION:2.0
PRODID:-//wp-events-plugin.com//7.2.3.1//EN
TZID:Europe/Berlin
X-WR-TIMEZONE:Europe/Berlin
BEGIN:VEVENT
UID:13@21maldrei.de
DTSTART;TZID=Europe/Berlin:20230917T100000
DTEND;TZID=Europe/Berlin:20230917T140000
DTSTAMP:20240523T211900Z
URL:https://www.21maldrei.de/events/familientreffen-september-2023/
SUMMARY:21malDREI Familientreffen September
DESCRIPTION:Du möchtest mit deiner Familie zum Familientreffen kommen? Dan
 n schicke zur leichteren Planung bitte eine formlose Anmeldung mit Anzahl 
 der Personen\, die Du mitbringst per E-Mail an vorstand@21maldrei.de
ATTACH;FMTTYPE=image/jpeg:https://www.21maldrei.de/wp-content/uploads/2023
 /02/Familientreffen-e1683012877545.jpg
LOCATION:Familienzentrum Westend Frankfurt\, Westendstraße 21\, Frankfurt\
 , 60325\, Deutschland
X-APPLE-STRUCTURED-LOCATION;VALUE=URI;X-ADDRESS=Westendstraße 21\, Frankfu
 rt\, 60325\, Deutschland;X-APPLE-RADIUS=100;X-TITLE=Familienzentrum Westen
 d Frankfurt:geo:0,0
END:VEVENT
BEGIN:VTIMEZONE
TZID:Europe/Berlin
X-LIC-LOCATION:Europe/Berlin
BEGIN:DAYLIGHT
DTSTART:20230326T030000
TZOFFSETFROM:+0100
TZOFFSETTO:+0200
TZNAME:CEST
END:DAYLIGHT
END:VTIMEZONE
END:VCALENDAR