BEGIN:VCALENDAR
VERSION:2.0
PRODID:-//wp-events-plugin.com//7.2.3.1//EN
TZID:Europe/Berlin
X-WR-TIMEZONE:Europe/Berlin
BEGIN:VEVENT
UID:28@21maldrei.de
DTSTART;TZID=Europe/Berlin:20240905T193000
DTEND;TZID=Europe/Berlin:20240905T220000
DTSTAMP:20240612T223629Z
URL:https://www.21maldrei.de/events/fluch-oder-segen-persoenliche-assisten
 z-und-persoenliches-budget-im-freizeitbereich/
SUMMARY:Fluch oder Segen?! Persönliche Assistenz und persönliches Budget 
 im Freizeitbereich
DESCRIPTION:Kindern\, Jugendlichen und Erwachsenen mit Beeinträchtigung st
 eht Eingliederungshilfe zu um die „individuelle Lebensführung“ zu erm
 öglichen und die „volle\, wirksame und gleichberechtigte Teilhabe am Le
 ben in der Gesellschaft zu fördern. Aber was bedeutet das?\n\nAn einem ko
 nkreten Beispiel erläutert die Referentin wie viel Freiheit für den betr
 offenen Behinderten – aber auch die Eltern – durch eine gut organisier
 te Assistenz im Alltag entsteht. Die Entwicklung kann durch Assistenzkräf
 te gefördert werden\, weil die Kinder und Jugendlichen darin unterstützt
  werden eigenen Interessen nachzugehen\, Hobbys zu erkunden\, alltagsprakt
 ische Fertigkeiten einzuüben – ihr Leben im Rahmen ihrer Möglichkeiten
  unabhängig von Eltern und ErzieherInnen zu gestalten.\n\nAber: Was koste
 t es Eltern – finanziell und nervlich – dieses Recht für ihre Kinder 
 einzufordern?\nFreizeit-\, Teilhabe- oder Alltags-Assistenz ist im Gesetz 
 verankert – aber noch lange nicht in allen Behörden umgesetzt. Die konk
 rete Auslegung des Begriffs Teilhabe“ bleibt dem Ermessen der jeweiligen
  SachbearbeiterInnen bzw. Richter überlassen. Was können und dürfen wir
  erwarten? Wie können wir die Rechte unseres Kindes durchsetzen? Und für
  welche Familien lohnt sich das überhaupt?\n\nIm zweiten Teil beleuchten 
 wir\, wie Eingliederungshilfe als „Sachleistung“ und im „Persönlich
 en Budget“ funktioniert\, worauf ihr bei der Umsetzung achten solltet un
 d wie ihr geeignete Kräfte findet. Wir besprechen\, wie ihr ohne Angst vo
 r Verträgen und Lohnbuchhaltung Arbeitgeber werdet und Euer Assistenz-Tea
 m organisiert.\n\nAbschließend sprechen wir darüber\, wie ein solches As
 sistenz-Team auch mit Hilfe von Verhinderungspflege\, Entlastungsbetrag un
 d privater Mittel effektiv gestaltet und geführt werden kann\, wenn man n
 icht den Weg der Eingliederungshilfe gehen will\, sich aber dennoch Assist
 enz für sein Kind wünscht. Praktische Tipps zur Kommunikation und Team-B
 ildung runden den Abend ab.\n\nKosten: Reduzierter Kostenbeitrag für Mitg
 lieder des Vereins (entsprechender Gutschein-Code wird Mitgliedern des Ver
 eins auf den üblichen Wegen mitgeteilt).\n\nÜber die Referentin:\n\nMari
 on Mahnke ist Pädagogin\, Kulturwissenschaftlerin (ReWi)\, Beraterin für
  Stressbewältigung und Systemischer Resilienz- Coach.\nUnter dem Motto 
 „Außergewöhnlich gut leben“ hilft sie als Expertin für Special-Need
 s-Parenting Eltern von Kindern mit besonderen Bedürfnissen bei allen Them
 en rund um die Verbesserung der Lebensqualität.\nDabei ist es ihr wichtig
 \, alle Familienmitglieder in den Blick zu nehmen und sie dabei zu unterst
 ützen\, schwierige Situationen souverän zu meistern. Die Referentin ist 
 Mutter von drei Kindern. Eine ihrer Töchter lebt mit Down-Syndrom und Aut
 ismus.\n\nHomepage: www.marion-mahnke.de | www.special-needs-parenting.de\
 n\nDas Seminar wird gefördert durch die Merck BKK.\n\n
ATTACH;FMTTYPE=image/jpeg:https://www.21maldrei.de/wp-content/uploads/2024
 /06/Assistenz-Fluch-oder-Segen.jpeg
END:VEVENT
BEGIN:VTIMEZONE
TZID:Europe/Berlin
X-LIC-LOCATION:Europe/Berlin
BEGIN:DAYLIGHT
DTSTART:20240331T030000
TZOFFSETFROM:+0100
TZOFFSETTO:+0200
TZNAME:CEST
END:DAYLIGHT
END:VTIMEZONE
END:VCALENDAR