BEGIN:VCALENDAR
VERSION:2.0
PRODID:-//wp-events-plugin.com//7.2.3.1//EN
TZID:Europe/Berlin
X-WR-TIMEZONE:Europe/Berlin
BEGIN:VEVENT
UID:10@21maldrei.de
DTSTART;TZID=Europe/Berlin:20230511T200000
DTEND;TZID=Europe/Berlin:20230511T220000
DTSTAMP:20230501T120900Z
URL:https://www.21maldrei.de/events/frag-denise-zweiter-von-vier-online-ab
 enden/
SUMMARY:"Frag Denise" - zweiter von vier Online-Abenden
DESCRIPTION:Unter dem Motto: "Frag Denise" bieten wir einer begrenzten Teil
 nehmerzahl den Raum\, die Zeit und einen geschützten Rahmen für all die 
 Fragen\, die uns in unserem Alltag als Eltern eines Kindes mit Down-Syndro
 m beschäftigen.\n\nDenise Hönninger  ist seit über 10 Jahren Logopädi
 n und sieht ihren Schwerpunkt klar in der Arbeit mit Kindern mit Behinderu
 ng.\n\nDoch nicht nur das: Durch die große Expertise der letzten Jahre si
 eht sie die Wichtigkeit in der Unterstützung von Erziehenden\, sowie der 
 Beratung von Kolleg:innen und Pädagog:innen. Fragen\, Ideen und Impulse r
 und um die Themen Logopädie\, Herausforderungen im Alltag und adäquate F
 örderung finden bei ihr einen Platz.\n\nIm April 2022 macht sie mit der G
 ründung THESE LITTLE TALKS ein Herzensprojekt wahr und vermittelt so noch
  mehr Wissen und schärft den Blick von Menschen\, die mit Kindern mit Beh
 inderung leben\, arbeiten oder auf andere Art5 das große Glück haben der
 en Reise zu begleiten.\n\nKosten:\n\n 	15 Euro für Mitglieder im Verein 2
 1malDREI\n 	25 für Nicht-Mitglieder\n 	Anmeldung an: vorstand@21maldrei.d
 e\n
ATTACH;FMTTYPE=image/jpeg:https://www.21maldrei.de/wp-content/uploads/2023
 /05/FragDenise_110523-e1683012920110.jpeg
LOCATION:http://Zoom
END:VEVENT
BEGIN:VTIMEZONE
TZID:Europe/Berlin
X-LIC-LOCATION:Europe/Berlin
BEGIN:DAYLIGHT
DTSTART:20230326T030000
TZOFFSETFROM:+0100
TZOFFSETTO:+0200
TZNAME:CEST
END:DAYLIGHT
END:VTIMEZONE
END:VCALENDAR