BEGIN:VCALENDAR
VERSION:2.0
PRODID:-//wp-events-plugin.com//7.2.3.1//EN
TZID:Europe/Berlin
X-WR-TIMEZONE:Europe/Berlin
BEGIN:VEVENT
UID:95@21maldrei.de
DTSTART;TZID=Europe/Berlin:20260509T143000
DTEND;TZID=Europe/Berlin:20260509T163000
DTSTAMP:20260417T081413Z
URL:https://www.21maldrei.de/events/geschwister-zeit-kreativ-mai-2026/
SUMMARY:Geschwisterzeit kreativ - Eine besondere Auszeit für Geschwisterki
 nder ab 8 Jahren
DESCRIPTION:GESCHWISTER ZEIT KREATIV - Eine besondere Auszeit für Geschwis
 terkinder ab 8 Jahren\n\nAn diesem Tag bieten wir für die Geschwisterkind
 er unserer Mitgliedsfamilien eine kreative Auszeit mit Leinwand und Farbe 
 in den Räumlichkeiten des Stadtteilzentrums Mandelhain in Kelsterbach an.
 \n\nJedes Kind erhält bei Buchung alle Materialen gestellt und kann sich 
 unter Anleitung von Kati Rolle (@art.witch.k) bei kleinen Snacks und Getr
 änken künstlerisch an einem Themenmotiv ausprobieren. Dabei entstehen ni
 cht nur individuelle Kunstwerke – auch der Kontakt zu anderen Kindern\, 
 die ebenfalls ein Geschwisterkind mit Down-Syndrom haben\, kann neu geknü
 pft oder vertieft werden.\n\nAuch unsere Geschwisterkinder machen unsere W
 elt bunt\, strahlend und einzigartig\, genauso wie ihre Kunstwerke an dies
 em Tag.\n\nDu hast ein Geschwisterkind (ohne Down-Syndrom)\, das mindesten
 s 8 Jahre alt ist und gerne künstlerisch aktiv werden möchte? Dann melde
  es zu unserer kreativen Geschwisterzeit an. Die Kinder können sich offen
  in einem geschützten Rahmen austauschen\, lachen\, zuhören und dazu noc
 h ihr eigenes Kunstwerk mit nach Hause nehmen.\n\nOrganisatorisches\n\n 	S
 amstag\, 09.05.2026\n 	Start: 14:30 Uhr \n 	Dauer: vss. 2 Stunden\n 	Koste
 nbeitrag: 5\,00 € (der Rest wird durch unseren Verein getragen)\n 	Stadt
 teilzentrum Mandelhain\, Mönchbruchstraße 47\, 65451 Kelsterbach\n\nAnsp
 rechpartnerin von 21malDREI und Organisatorin vor Ort ist unser Mitglied S
 ilke.\n\nSeid gern ein paar Minuten früher da\, damit wir pünktlich star
 ten können.\n\nDie Eltern können in der Zeit in einem der zahlreichen Ca
 fes in Kelsterbach eine eigene Auszeit genießen\, oder – etwas abseits 
 der Kinder\, um ihnen Raum für ihren Austausch zu geben – im Mandelhain
  selbst mit anderen Eltern ins Gespräch kommen.\n\nBitte bringt keine jü
 ngeren Geschwisterkinder mit\, damit der Ablauf für die Großen ungestör
 t bleibt.\n\nDie Veranstaltung findet ab einer Mindestteilnehmeranzahl von
  4 Kindern statt und ist auf 10 Teilnehmende begrenzt.\n\nSilke &amp\;\n\n
 euer Vorstand von 21malDREI – Initiative Trisomie 21 Frankfurt e.V.
ATTACH;FMTTYPE=image/jpeg:https://www.21maldrei.de/wp-content/uploads/2026
 /02/Geschwister-Mal-Event-Mai-2026.jpeg
LOCATION:Stadtteilzentrum Mandelhain\, Mönchbruchstraße 47\, Kelsterbach\
 , Hessen\, 65451\, Deutschland
X-APPLE-STRUCTURED-LOCATION;VALUE=URI;X-ADDRESS=Mönchbruchstraße 47\, Kel
 sterbach\, Hessen\, 65451\, Deutschland;X-APPLE-RADIUS=100;X-TITLE=Stadtte
 ilzentrum Mandelhain:geo:0,0
END:VEVENT
BEGIN:VTIMEZONE
TZID:Europe/Berlin
X-LIC-LOCATION:Europe/Berlin
BEGIN:DAYLIGHT
DTSTART:20260329T030000
TZOFFSETFROM:+0100
TZOFFSETTO:+0200
TZNAME:CEST
END:DAYLIGHT
END:VTIMEZONE
END:VCALENDAR