BEGIN:VCALENDAR
VERSION:2.0
PRODID:-//wp-events-plugin.com//7.2.3.1//EN
TZID:Europe/Berlin
X-WR-TIMEZONE:Europe/Berlin
BEGIN:VEVENT
UID:62@21maldrei.de
DTSTART;TZID=Europe/Berlin:20250814T200000
DTEND;TZID=Europe/Berlin:20250814T220000
DTSTAMP:20250814T144253Z
URL:https://www.21maldrei.de/events/ki-im-alltag-pflegender-eltern-august-
 2025/
SUMMARY:KI im Alltag pflegender Eltern – Austausch & Ideen
DESCRIPTION:Wie kann Künstliche Intelligenz uns im Alltag als pflegende El
 tern unterstützen – besonders bei Papierkram\, Anträgen und der gefür
 chteten Bürokratie?\nDarüber möchten wir uns gemeinsam austauschen\, Er
 fahrungen teilen und praktische Tipps sammeln.\n\n📅 14.08.2025\n🕗 20
 :00 Uhr\n📍 Online via Zoom\n💙 Kostenfrei – wir freuen uns aber imm
 er über eine kleine Spende.\n\nDurch den Abend führen euch unsere Vorsta
 ndsmitglieder Katrin Kolbinger und Nina Barth.
ATTACH;FMTTYPE=image/jpeg:https://www.21maldrei.de/wp-content/uploads/2025
 /08/KI-fuer-pflegende-Eltern-August-2025.jpeg
END:VEVENT
BEGIN:VTIMEZONE
TZID:Europe/Berlin
X-LIC-LOCATION:Europe/Berlin
BEGIN:DAYLIGHT
DTSTART:20250330T030000
TZOFFSETFROM:+0100
TZOFFSETTO:+0200
TZNAME:CEST
END:DAYLIGHT
END:VTIMEZONE
END:VCALENDAR