BEGIN:VCALENDAR
VERSION:2.0
PRODID:-//wp-events-plugin.com//7.2.3.1//EN
TZID:Europe/Berlin
X-WR-TIMEZONE:Europe/Berlin
BEGIN:VEVENT
UID:49@21maldrei.de
DTSTART;TZID=Europe/Berlin:20250604T193000
DTEND;TZID=Europe/Berlin:20250604T220000
DTSTAMP:20250527T214206Z
URL:https://www.21maldrei.de/events/kita-schulwahl-wo-wird-mein-kind-gluec
 klich/
SUMMARY:Kita-/Schulwahl - Wo wird mein Kind glücklich?
DESCRIPTION:Wo wird mein Kind glücklich?\nMit Kopf und Bauch die richtige 
 Entscheidung für DEIN Kind finden. \n\nDieses Seminar richtet sich an Fam
 ilien\, die gerade über die richtige KiTa/Schule/Ausbildung/Wohnmöglichk
 eit für ihr Kind mit Behinderung nachdenken. Es bietet Orientierungshilfe
 n\, um eine informierte Entscheidung zu treffen.\n\nWir wollen\, dass es u
 nseren Kindern gut geht\, sie akzeptiert und wertgeschätzt werden dabei e
 ine angemessene Förderung\, aber auch die notwendige Unterstützung erhal
 ten. Zwischen dem Wunsch nach Inklusion und dem Streben nach optimaler Fö
 rderung und Akzeptanz fühlen sich viele Eltern zerrissen:\n\n 	Im Kinderg
 arten-Alter fragen wir uns: Ist mein Kind in der KiTa der Nachbarschaft gu
 t aufgehoben\, der erfahrene Inklusions-Kindergarten die bessere Alternati
 ve oder braucht es eine heilpädagogische Einrichtung? Womöglich wäre ei
 ne Tagesmutter oder eine ganze andere Betreuungsform die beste Lösung?\n 
 	Wenn die Einschulung bevorsteht\, grübeln wir: Wagen wir den Schritt in 
 die Inklusion der Grundschule um die Ecke oder geben wir das Kind in eine 
 Förderschule? Und welche Schule könnte es konkret werden? Vielleicht ste
 hen auch noch eine heilpädagogische Einrichtung oder eine Waldorf-Schule 
 zur Wahl? Kann mein Kind an einer Regel-Schule gut gefördert werden? Oder
  wäre eine Förder-Schule die bessere Alternative?\n 	Selbst bei Berufswa
 hl und der Entscheidung für das künftige Wohnumfeld unserer Heranwachsen
 den und jungen Erwachsenen braucht es Zeit um mögliche Wege zu identifizi
 eren und eine gute Entscheidung zu treffen.\n\nWo geht es MEINEM Kind in d
 en kommenden Jahren am besten? Wie treffe ich eine GUTE Entscheidung\, die
  meinem Kind und unserer Familie gerecht werden? Welche Aspekte sollte ich
  bei der Wahl berücksichtigen? Und worauf sollte ich achten\, wenn ich di
 e Möglichkeiten vor Ort erkunde?\n\nDas Seminar kann Euch die Entscheidun
 g nicht abnehmen – hilft Euch aber\, einen guten Weg zu finden. Und das 
 Beste: Es gibt Euch auch für künftige Entscheidungen im Leben Eurer Kind
 er Methoden an die Hand\, um mit Kopf und Bauch die richtige Entscheidung
  für den jeweiligen Menschen zum gegenwärtigen Zeitpunkt zu finden. \n\n
 Seminar-Inhalte:\nDieses Seminar ist als Vortrag mit der Möglichkeit für
  Rückfragen konzipiert. Zunächst beschäftigen wir uns mit den allgemein
 en rechtlichen und ethischen Grundlagen für Inklusion\, aber auch mit den
  Vorzügen und Nachteilen eines exklusiven Weges. (Auf die konkrete Rechts
 lage in den einzelnen Bundesländern kann jedoch aufgrund der unterschiedl
 ichen Regelungen nur bedingt eingegangen werden.)\nIm Anschluss werden ana
 lytische\, aber auch kreativ-intuitive Wege der Entscheidungsfindung vorge
 stellt\, die sowohl die Bedürfnisse des beeinträchtigten Kindes\, als au
 ch die Ressourcen der Familie und die Möglichkeiten vor Ort berücksichti
 gen.\n\nAußerdem erhalten die Teilnehmenden Tipps für Recherche und Bewe
 rtung der zur Verfügung stehenden Einrichtungen oder Möglichkeiten. \n\
 n&nbsp\;\n\nDurch den Abend führt uns Marion Mahnke\, Pädagogin\, Kultur
 wissenschaftlerin (ReWi)\, Beraterin für Stressbewältigung und Systemisc
 her Resilienz- Coach.\n\nUnter dem Motto „Außergewöhnlich gut leben“
  hilft sie als Expertin für Special-Needs-Parenting Eltern von Kindern mi
 t besonderen Bedürfnissen bei allen Themen rund um die Verbesserung der L
 ebensqualität.\nDabei ist es ihr wichtig\, alle Familienmitglieder in den
  Blick zu nehmen und sie dabei zu unterstützen\, schwierige Situationen s
 ouverän zu meistern. Die Referentin ist Mutter von drei Kindern. Eine ihr
 er Töchter lebt mit Down-Syndrom und Autismus.
ATTACH;FMTTYPE=image/jpeg:https://www.21maldrei.de/wp-content/uploads/2025
 /01/Wo-wird-mein-Kind-gluecklich-2025.jpg
END:VEVENT
BEGIN:VTIMEZONE
TZID:Europe/Berlin
X-LIC-LOCATION:Europe/Berlin
BEGIN:DAYLIGHT
DTSTART:20250330T030000
TZOFFSETFROM:+0100
TZOFFSETTO:+0200
TZNAME:CEST
END:DAYLIGHT
END:VTIMEZONE
END:VCALENDAR