BEGIN:VCALENDAR
VERSION:2.0
PRODID:-//wp-events-plugin.com//7.2.3.1//EN
TZID:Europe/Berlin
X-WR-TIMEZONE:Europe/Berlin
BEGIN:VEVENT
UID:33@21maldrei.de
DTSTART;TZID=Europe/Berlin:20240930T200000
DTEND;TZID=Europe/Berlin:20240930T220000
DTSTAMP:20240612T223536Z
URL:https://www.21maldrei.de/events/lets-talk-qa-zum-seminar-effektive-foe
 rderung-von-kindern-mit-behinderung/
SUMMARY:Let's Talk: QA zum Seminar "Effektive Förderung von Kindern mit Be
 hinderung"
DESCRIPTION:Im Nachgang zum Seminar "Effektive Förderung von Kindern mit B
 ehinderung" bieten wir hier für Teilnehmer des Seminars eine Q&amp\;A Ses
 sion an\, um offen gebliebene Fragen und Anliegen aus angewandter Praxis n
 ach dem Seminar zu platzieren und gemeinsam mit Denise zu diskutieren.
ATTACH;FMTTYPE=image/jpeg:https://www.21maldrei.de/wp-content/uploads/2024
 /06/Lets-talk-QA-effektive-foerderung.jpeg
END:VEVENT
BEGIN:VTIMEZONE
TZID:Europe/Berlin
X-LIC-LOCATION:Europe/Berlin
BEGIN:DAYLIGHT
DTSTART:20240331T030000
TZOFFSETFROM:+0100
TZOFFSETTO:+0200
TZNAME:CEST
END:DAYLIGHT
END:VTIMEZONE
END:VCALENDAR