BEGIN:VCALENDAR
VERSION:2.0
PRODID:-//wp-events-plugin.com//7.2.3.1//EN
TZID:Europe/Berlin
X-WR-TIMEZONE:Europe/Berlin
BEGIN:VEVENT
UID:99@21maldrei.de
DTSTART;TZID=Europe/Berlin:20260319T184500
DTEND;TZID=Europe/Berlin:20260319T203000
DTSTAMP:20260303T202817Z
URL:https://www.21maldrei.de/events/mainz-vs-olmuetz-maerz-2026/
SUMMARY:Spielbesuch Mainz 05 gegen Olmütz (UEFA Conference League)
DESCRIPTION:Seit vielen Jahren lädt der 1. FSV Mainz 05 soziale und karita
 tive Einrichtungen aus der Region zu besonderen Heimspielen ein – und wi
 r  dürfen dabei sein.\n\nFür das UEFA-Conference-League-Achtelfinale ge
 gen Olmütz am\nDonnerstag\, 19.03.2026 um 18:45 Uhr\nsteht uns ein begren
 ztes Ticketkontingent (max. 30 Tickets) zur Verfügung.\n\nEin Abend volle
 r Stadion-Atmosphäre\, Teamgeist und echter Gänsehaut-Momente – wir fr
 euen uns sehr\, dieses Erlebnis an unsere Mitgliedsfamilien weitergeben zu
  können.\n\nDie Ticketbuchung ist ab sofort möglich. Die Plätze sind li
 mitiert – first come\, first served. Buchungsschluss damit wir bei Mainz
  05 die Tickets rechtzeitig bestellen können\, ist der 08.03.2026 um 23 U
 hr.\n\nWir sagen von Herzen Danke an den 1. FSV Mainz 05 für diese wunder
 bare Möglichkeit.
ATTACH;FMTTYPE=image/jpeg:https://www.21maldrei.de/wp-content/uploads/2026
 /03/Mainz-05-gegen-Olmuetz-Maerz-2026.jpeg
LOCATION:MEWA Arena Mainz\, Eugen-Salomon-Straße 1\, Mainz\,  55128\, Deut
 schland
X-APPLE-STRUCTURED-LOCATION;VALUE=URI;X-ADDRESS=Eugen-Salomon-Straße 1\, M
 ainz\,  55128\, Deutschland;X-APPLE-RADIUS=100;X-TITLE=MEWA Arena Mainz:ge
 o:0,0
END:VEVENT
BEGIN:VTIMEZONE
TZID:Europe/Berlin
X-LIC-LOCATION:Europe/Berlin
BEGIN:STANDARD
DTSTART:20251026T020000
TZOFFSETFROM:+0200
TZOFFSETTO:+0100
TZNAME:CET
END:STANDARD
END:VTIMEZONE
END:VCALENDAR