BEGIN:VCALENDAR
VERSION:2.0
PRODID:-//wp-events-plugin.com//7.2.3.1//EN
TZID:Europe/Berlin
X-WR-TIMEZONE:Europe/Berlin
BEGIN:VEVENT
UID:65@21maldrei.de
DTSTART;TZID=Europe/Berlin:20260206T190000
DTEND;TZID=Europe/Berlin:20260206T230000
DTSTAMP:20260205T055950Z
URL:https://www.21maldrei.de/events/mama-treff-februar-2026/
SUMMARY:Mama-Treff Februar 2026
DESCRIPTION:Der erste Mama Treff im Jahr 2026 findet am 06.02. ab 19:00 im 
 The Lucky Few Eschborn statt.\n\nBitte wählt euren gewünschte Vorspeise\
 , Hauptgang und Dessert und bestellt und bezahlt über die Buchungsfunktio
 n.\n\nBitte gebt unter "Kommentare" eventuelle Unverträglichkeiten/Allerg
 ien an.\n\nMit eurer Buchung bucht ihr verbindlich eure Teilnahme sowie di
 e gewählten Speisen. Wir sammeln die Bestellungen und das Geld nur zur ei
 nfacheren Vorbereitung und geben die Kosten 1:1 an das Lucky Few weiter. B
 ei Nicht-Erscheinen gibt es leider kein Geld zurück.\n\nUm unseren Verwal
 tungsaufwand zu begrenzen bitte wir um PayPal Zahlung wenn ihr könnt.
ATTACH;FMTTYPE=image/jpeg:https://www.21maldrei.de/wp-content/uploads/2026
 /01/Mama-Treff-Februar-2026.jpeg
LOCATION:The Lucky Few\, Unterortstr 1\, Eschborn\, 65760\, Deutschland
X-APPLE-STRUCTURED-LOCATION;VALUE=URI;X-ADDRESS=Unterortstr 1\, Eschborn\, 
 65760\, Deutschland;X-APPLE-RADIUS=100;X-TITLE=The Lucky Few:geo:0,0
END:VEVENT
BEGIN:VTIMEZONE
TZID:Europe/Berlin
X-LIC-LOCATION:Europe/Berlin
BEGIN:STANDARD
DTSTART:20251026T020000
TZOFFSETFROM:+0200
TZOFFSETTO:+0100
TZNAME:CET
END:STANDARD
END:VTIMEZONE
END:VCALENDAR