BEGIN:VCALENDAR
VERSION:2.0
PRODID:-//wp-events-plugin.com//7.2.3.1//EN
TZID:Europe/Berlin
X-WR-TIMEZONE:Europe/Berlin
BEGIN:VEVENT
UID:106@21maldrei.de
DTSTART;TZID=Europe/Berlin:20260519T203000
DTEND;TZID=Europe/Berlin:20260519T223000
DTSTAMP:20260329T072803Z
URL:https://www.21maldrei.de/events/minis-austausch-mai-2026/
SUMMARY:21malDREI MINIS – Geschützter Online-Austausch für Eltern von B
 abys mit Down-Syndrom (0–18 Monate)
DESCRIPTION:Mittwoch\, 19. Mai 2026 | 20:30 Uhr | via Zoom\n\nVielleicht is
 t die Diagnose noch ganz frisch.\nVielleicht fühlt sich gerade vieles gle
 ichzeitig an – Liebe\, Sorge\, Überforderung\, Hoffnung.\nUnd vielleich
 t wünscht Ihr Euch einfach einen Ort\, an dem Ihr nicht erklären müsst\
 , was Euch bewegt.\n\nDieser Abend ist genau dafür da.\n\nEin kleiner\, g
 eschlossener Kreis von Eltern in einer ähnlichen Lebensphase.\nEin gesch
 ützter Raum\, in dem Vertraulichkeit selbstverständlich ist.\nEin Rahmen
 \, der Sicherheit gibt – auch wenn wir uns online begegnen.\nWas Euch er
 wartet\n\n 	Eine bewusst kleine Gruppe für echte Nähe und Austausch\n 	R
 aum für Eure Fragen – medizinisch\, organisatorisch\, emotional\n 	Ehrl
 iche Gespräche auf Augenhöhe\n 	Zuhören dürfen\, ohne Druck\n\nIhr ent
 scheidet selbst\, wie aktiv Ihr sein möchtet.\nSprechen\, Fragen stellen 
 oder einfach da sein – alles ist willkommen.\nWer Euch begleitet\nDurch 
 den Abend führen Nina Barth\, Gründungs- und Vorstandsmitglied von 21mal
 DREI sowie unser langjähriges Mitglied und erfahrene Mutter\, Laura Spieg
 el.\n\nUnterstützt werden sie von weiteren Müttern / Vätern eines Kinde
 s mit Down-Syndrom\, die seit Jahren in dieser Lebensrealität stehen.\nSi
 e kennen die erste Zeit nach der Diagnose – genauso wie Themen wie Früh
 förderung\, medizinische Fragen\, Behördenwege und das emotionale Auf un
 d Ab.\n\nHier trefft Ihr auf persönliche Erfahrung\, gewachsene Kompetenz
  und ehrliches Verständnis.\nFür wen ist der Austausch gedacht?\nFür Eu
 ch als Eltern eines Babys mit Down-Syndrom im Alter von 0 bis 18\nMonaten 
 – unabhängig davon\, ob die Diagnose vor oder nach der Geburt\ngestellt
  wurde.\nOrganisatorisches\n\n 	Online via Zoom\n 	Beginn: 20:30 Uhr\n 	Ko
 stenfrei\n 	Den Link erhaltet ihr nach erfolgreicher Anmeldung.\n 	Gern k
 önnt Ihr der Veranstaltung gemeinsam als Elternpaar folgen.\n\nIhr seid n
 icht allein.\nUnd Ihr müsst diesen Weg nicht alleine gehen.\n\nWir freuen
  uns darauf\, Euch in einem sicheren Rahmen zu begegnen – mit\nOffenheit
 \, Respekt und echter Verbundenheit.\n\nEuer Vorstand von 21malDREI – In
 itiative Trisomie 21 Frankfurt e.V.
ATTACH;FMTTYPE=image/jpeg:https://www.21maldrei.de/wp-content/uploads/2026
 /03/Austausch-Minis-Familien-mit-Banys-mit-Down-Syndrom.jpg
END:VEVENT
BEGIN:VTIMEZONE
TZID:Europe/Berlin
X-LIC-LOCATION:Europe/Berlin
BEGIN:DAYLIGHT
DTSTART:20260329T030000
TZOFFSETFROM:+0100
TZOFFSETTO:+0200
TZNAME:CEST
END:DAYLIGHT
END:VTIMEZONE
END:VCALENDAR