BEGIN:VCALENDAR
VERSION:2.0
PRODID:-//wp-events-plugin.com//7.2.3.1//EN
TZID:Europe/Berlin
X-WR-TIMEZONE:Europe/Berlin
BEGIN:VEVENT
UID:100@21maldrei.de
DTSTART;TZID=Europe/Berlin:20260313T110000
DTEND;TZID=Europe/Berlin:20260313T120000
DTSTAMP:20260311T212836Z
URL:https://www.21maldrei.de/events/mit-bunten-socken-am-roemer-zum-wdst-2
 026/
SUMMARY:GEMEINSAM STATT EINSAM
DESCRIPTION:GEMEINSAM STATT EINSAM\nMit bunten Socken rund um Justitia am R
 ömer zum Welt-Down-Syndrom-Tag 2026\nFrankfurt am Main - Mit einer große
 n bunten Socken-Kette setzt der Verein „21malDREI – Initiative Trisomi
 e 21 Frankfurt e.V.“ (21malDREI) ein starkes Zeichen für Zusammenhalt\,
  Vielfalt und gesellschaftliche Teilhabe.\n\nUnter dem diesjährigen Motto
  „GEMEINSAM STATT EINSAM“ lädt der Verein am 13.3.2026 um 11 Uhr zur 
 großen Mitmach-Aktion an den Gerechtigkeitsbrunnen auf dem Frankfurter R
 ömerberg ein. Zahlreiche Familien mit Kindern mit Trisomie 21 werden geme
 insam eine riesige Wäscheleine voller selbst gestalteter\, bunter Socken 
 rund um den Brunnen spannen und damit symbolisch Justitia\, die Figur der 
 Gerechtigkeit\, „umarmen“. Mitten im Herzen Frankfurts entsteht so ein
  kraftvolles Bild für Inklusion und Gemeinschaft.\n\nAnlass ist der diesj
 ährige Welt-Down-Syndrom-Tag am 21.3.2026. Gerade in einer Zeit\, in der 
 unsere Demokratie und ihre Werte besonders schützenswert sind\, setzt die
 se Geste ein bewusstes Zeichen: für eine offene Gesellschaft\, für gleic
 he Rechte und für den festen Platz von Menschen mit Behinderung mitten in
  unserer Gemeinschaft.\n\n„Inklusion ist kein Randthema“\, erklärt de
 r Vorstand von 21malDREI.\n\n„GEMEINSAM STATT EINSAM bedeutet für uns\,
  sichtbar zu machen\, dass wir alle zusammengehören. Je mehr wir sind\, d
 esto stärker wird unser Zeichen. Niemand darf in unserer Gesellschaft all
 ein gelassen werden.“\n\nUnterstütz wird die Mitmach-Aktion von Oberbü
 rgermeister Mike Josef und Heike Hofmann\, der Hessischen Sozialministerin
 . Außerdem sind verschiedene Magistratsmitglieder\, Vertreter der demokra
 tischen Parteien in Frankfurt sowie der Verein „Wir sind alles Frankfurt
 er“ mit dabei.\n\n&nbsp\;\n\nWarum bunte Socken?\n\n21malDREI – Initia
 tive Trisomie 21 Frankfurt e.V.\n\nDer 21.3. steht weltweit für Chancengl
 eichheit und Inklusion. Die bunten Socken sind das internationale Symbol d
 es Welt-Down-Syndrom-Tages:\nSie stehen für das dreifach vorhandene 21. C
 hromosom bei Menschen mit Trisomie 21 – und zugleich für Individualitä
 t und Vielfalt.\nIn diesem Jahr verbindet 21malDREI dieses Symbol mit eine
 r klaren Botschaft: Einsamkeit darf keinen Platz in unserer Gesellschaft h
 aben.\nInklusion bedeutet\, füreinander da zu sein\, Begegnungen zu schaf
 fen und echte Teilhabe zu ermöglichen.\n\nJetzt mitmachen!\n\nKinder\, Fa
 milien\, Schulen\, Kitas\, Vereine und Unternehmen sind herzlich eingelade
 n\, sich aktiv zu beteiligen:\n1. Socken-Vorlage auf www.21malDREI.de heru
 nterladen\n2. Kreativ und bunt gestalten\n3. Ausschneiden und laminieren\n
 4. Zur Aktion am 13.3. um 11 Uhr mitbringen.\n\nJe bunter\, desto sichtbar
 er.\nJe mehr\, desto stärker das gemeinsame Statement.\n\nAlle Bürgerinn
 en und Bürger sind eingeladen\, am 13.3.2026 um 11 Uhr zum Römer zu komm
 en und Teil dieses besonderen Moments zu werden.\n\nVeranstaltungsort:\nGe
 rechtigkeitsbrunnen am Römer\nRömerberg\, 60311 Frankfurt am Main\n\nDat
 um &amp\; Uhrzeit:\n13.3.2026\, 11:00 Uhr\nÜber 21malDREI\nDer 2019 gegr
 ündete Verein zählt fast 500 Mitglieder aus dem gesamten\nRhein-Main-Geb
 iet und engagiert sich aktiv für die Rechte\, Sichtbarkeit\nund gesellsch
 aftliche Teilhabe von Menschen mit Down-Syndrom.
ATTACH;FMTTYPE=image/jpeg:https://www.21maldrei.de/wp-content/uploads/2026
 /03/PHOTO-2026-03-11-21-58-44.jpg
LOCATION:Römer in Frankfurt am Main\, Gerechtigkeitsbrunnen am Römer Röm
 erberg\, Frankfurt am Main\, 60311\, Deutschland
X-APPLE-STRUCTURED-LOCATION;VALUE=URI;X-ADDRESS=Gerechtigkeitsbrunnen am R
 ömer Römerberg\, Frankfurt am Main\, 60311\, Deutschland;X-APPLE-RADIUS=
 100;X-TITLE=Römer in Frankfurt am Main:geo:0,0
END:VEVENT
BEGIN:VTIMEZONE
TZID:Europe/Berlin
X-LIC-LOCATION:Europe/Berlin
BEGIN:STANDARD
DTSTART:20251026T020000
TZOFFSETFROM:+0200
TZOFFSETTO:+0100
TZNAME:CET
END:STANDARD
END:VTIMEZONE
END:VCALENDAR