BEGIN:VCALENDAR
VERSION:2.0
PRODID:-//wp-events-plugin.com//7.2.3.1//EN
TZID:Europe/Berlin
X-WR-TIMEZONE:Europe/Berlin
BEGIN:VEVENT
UID:63@21maldrei.de
DTSTART;TZID=Europe/Berlin:20260118T110000
DTEND;TZID=Europe/Berlin:20260118T120000
DTSTAMP:20260113T095208Z
URL:https://www.21maldrei.de/events/mitgliederversammlung-2026/
SUMMARY:Mitgliederversammlung 2026
DESCRIPTION:
ATTACH;FMTTYPE=image/jpeg:https://www.21maldrei.de/wp-content/uploads/2025
 /10/21malDREI-Mitgliederversammlung.jpg
END:VEVENT
BEGIN:VTIMEZONE
TZID:Europe/Berlin
X-LIC-LOCATION:Europe/Berlin
BEGIN:STANDARD
DTSTART:20251026T020000
TZOFFSETFROM:+0200
TZOFFSETTO:+0100
TZNAME:CET
END:STANDARD
END:VTIMEZONE
END:VCALENDAR