BEGIN:VCALENDAR
VERSION:2.0
PRODID:-//wp-events-plugin.com//7.2.3.1//EN
TZID:Europe/Berlin
X-WR-TIMEZONE:Europe/Berlin
BEGIN:VEVENT
UID:70@21maldrei.de
DTSTART;TZID=Europe/Berlin:20261126T200000
DTEND;TZID=Europe/Berlin:20261126T220000
DTSTAMP:20260206T135115Z
URL:https://www.21maldrei.de/events/mitgliederversammlung-nov-2026/
SUMMARY:Mitgliederversammlung November 2026
DESCRIPTION:
END:VEVENT
BEGIN:VTIMEZONE
TZID:Europe/Berlin
X-LIC-LOCATION:Europe/Berlin
BEGIN:STANDARD
DTSTART:20261025T020000
TZOFFSETFROM:+0200
TZOFFSETTO:+0100
TZNAME:CET
END:STANDARD
END:VTIMEZONE
END:VCALENDAR