BEGIN:VCALENDAR
VERSION:2.0
PRODID:-//wp-events-plugin.com//7.2.3.1//EN
TZID:Europe/Berlin
X-WR-TIMEZONE:Europe/Berlin
BEGIN:VEVENT
UID:93@21maldrei.de
DTSTART;TZID=Europe/Berlin:20260218T203000
DTEND;TZID=Europe/Berlin:20260218T223000
DTSTAMP:20260216T090612Z
URL:https://www.21maldrei.de/events/online-austausch-fuer-eltern-von-babys
 -mit-down-syndrom-feb-2026/
SUMMARY:MINIS: Geschützter Online-Austausch für Eltern von Babys mit Down
 -Syndrom (0–18 Monate) Februar 2026
DESCRIPTION:Geschützter Online-Austausch für Eltern von Babys mit Down-Sy
 ndrom (0–18 Monate)\n\nVielleicht ist die Diagnose noch ganz frisch.\nVi
 elleicht fühlt sich gerade vieles gleichzeitig an – Liebe\, Sorge\, Üb
 erforderung\, Hoffnung.\nUnd vielleicht wünscht Ihr Euch einfach einen Or
 t\, an dem Ihr nicht erklären müsst\, was Euch bewegt.\n\nDieser Abend i
 st genau dafür da.\n\nEin kleiner\, geschlossener Kreis von Eltern in ein
 er ähnlichen Lebensphase.\nEin geschützter Raum\, in dem Vertraulichkeit
  selbstverständlich ist.\nEin Rahmen\, der Sicherheit gibt – auch wenn 
 wir uns online begegnen.\n\nWas Euch erwartet\n\n 	Eine bewusst kleine Gru
 ppe für echte Nähe und Austausch\n 	Raum für Eure Fragen – medizinisc
 h\, organisatorisch\, emotional\n 	Ehrliche Gespräche auf Augenhöhe\n 	Z
 uhören dürfen\, ohne Druck\n\nIhr entscheidet selbst\, wie aktiv Ihr sei
 n möchtet.\nSprechen\, Fragen stellen oder einfach da sein – alles ist 
 willkommen.\n\nWer Euch begleitet\n\nDurch den Abend führt Nina Barth\, G
 ründungs- und Vorstandsmitglied von 21malDREI.\n\nUnterstützt wird sie v
 on weiteren Müttern / Vätern eines Kindes mit Down-Syndrom\, die seit Ja
 hren in dieser Lebensrealität stehen.\nSie kennen die erste Zeit nach der
  Diagnose – genauso wie Themen wie Frühförderung\, medizinische Fragen
 \, Behördenwege und das emotionale Auf und Ab.\n\nHier trefft Ihr auf per
 sönliche Erfahrung\, gewachsene Kompetenz und ehrliches Verständnis.\n\n
 Für wen ist der Austausch gedacht?\n\nFür Euch als Eltern eines Babys mi
 t Down-Syndrom im Alter von 0 bis 18 Monaten – unabhängig davon\, ob di
 e Diagnose vor oder nach der Geburt gestellt wurde.\n\nOrganisatorisches\n
 \n 	Online via Zoom\n 	Beginn: 20:30 Uhr\n 	Kostenfrei\n 	Den Link erhalte
 t ihr nach erfolgreicher Anmeldung.\n 	Gern könnt Ihr der Veranstaltung g
 emeinsam als Elternpaar folgen.\n\nIhr seid nicht allein.\nUnd Ihr müsst 
 diesen Weg nicht alleine gehen.\n\nWir freuen uns darauf\, Euch in einem s
 icheren Rahmen zu begegnen – mit Offenheit\, Respekt und echter Verbunde
 nheit.\n\nEuer Vorstand von 21malDREI – Initiative Trisomie 21 Frankfurt
  e.V.
ATTACH;FMTTYPE=image/jpeg:https://www.21maldrei.de/wp-content/uploads/2026
 /02/MINIS-Austausch-Feb-2026.jpeg
END:VEVENT
BEGIN:VTIMEZONE
TZID:Europe/Berlin
X-LIC-LOCATION:Europe/Berlin
BEGIN:STANDARD
DTSTART:20251026T020000
TZOFFSETFROM:+0200
TZOFFSETTO:+0100
TZNAME:CET
END:STANDARD
END:VTIMEZONE
END:VCALENDAR