BEGIN:VCALENDAR
VERSION:2.0
PRODID:-//wp-events-plugin.com//7.2.3.1//EN
TZID:Europe/Berlin
X-WR-TIMEZONE:Europe/Berlin
BEGIN:VEVENT
UID:98@21maldrei.de
DTSTART;TZID=Europe/Berlin:20260305T203000
DTEND;TZID=Europe/Berlin:20260305T220000
DTSTAMP:20260224T071117Z
URL:https://www.21maldrei.de/events/online-austausch-schule-maerz-2026/
SUMMARY:Online Austausch Schule März 2026
DESCRIPTION:AUSTAUSCH SCHULE - Selbsthilfe von Eltern für Eltern\n\nSchule
  ist ein Meilenstein.\nFür viele pflegende Eltern beginnt dieser Weg lang
 e vor dem ersten Schultag – mit intensiven Überlegungen\, Gesprächen\,
  Planungen und dem Wunsch\, die bestmögliche Entscheidung für das eigene
  Kind zu treffen.\n\nZwischen Inklusion\, Förderschule\, Assistenz und in
 dividuellen Bedürfnissen entstehen viele Fragen – aber auch wertvolle E
 rfahrungen.\n\nGenau diese Erfahrungen wollen wir teilen.\n\nUnser Austaus
 chabend ist gelebte Selbsthilfe:\nEltern geben ihr Wissen\, ihre Learnings
  und ihre Perspektiven weiter – ehrlich\, unterstützend und auf Augenh
 öhe.\n\nWas euch erwartet:\n\n 	Orientierung und Einblicke aus unterschie
 dlichen Schulformen\n 	Raum für eure Fragen und Gedanken\n 	gegenseitige 
 Ermutigung\n 	konkrete Impulse aus dem Familienalltag\n\nEin geschützter 
 Rahmen – ohne Fachpublikum\, ausschließlich für Familienangehörige.\n
 Durch den Abend führt und moderiert Nina Barth\, Gründungs- und Vorstand
 smitglied von 21malDREI.\n\nDer Teilnahmelink wird nach Anmeldung versende
 t.\nDie Veranstaltung wird nicht aufgezeichnet\, damit offenen und vertrau
 ensvollen Gesprächen Raum gegeben werden kann.\n\nSchule darf Kraft koste
 n – aber sie darf auch Mut machen.\nLasst uns Erfahrungen teilen – nie
 mand muss diesen Weg allein gehen.\n\nWir freuen uns auf euch. 💛\n\n&nb
 sp\;\n\nOrganisatorisches\n\n 	Donnerstag\, 05.03.2026\n 	Start: 20:30 Uhr
  \n 	Dauer: vss. 90 Minuten\n 	kostenfrei für unsere Mitglieder\n 	online
  via Zoom\n 	Den Link erhaltet ihr nach erfolgreicher Anmeldung.\n 	Gern k
 önnt Ihr der Veranstaltung gemeinsam als Elternpaar folgen.\n\nSeid gern 
 ein paar Minuten früher „da“\, damit wir pünktlich starten und die T
 echnik vorher testen können.
ATTACH;FMTTYPE=image/jpeg:https://www.21maldrei.de/wp-content/uploads/2026
 /02/Austausch-Schule-Maerz-2026.jpeg
END:VEVENT
BEGIN:VTIMEZONE
TZID:Europe/Berlin
X-LIC-LOCATION:Europe/Berlin
BEGIN:STANDARD
DTSTART:20251026T020000
TZOFFSETFROM:+0200
TZOFFSETTO:+0100
TZNAME:CET
END:STANDARD
END:VTIMEZONE
END:VCALENDAR