BEGIN:VCALENDAR
VERSION:2.0
PRODID:-//wp-events-plugin.com//7.2.3.1//EN
TZID:Europe/Berlin
X-WR-TIMEZONE:Europe/Berlin
BEGIN:VEVENT
UID:36@21maldrei.de
DTSTART;TZID=Europe/Berlin:20241204T200000
DTEND;TZID=Europe/Berlin:20241204T220000
DTSTAMP:20241204T084540Z
URL:https://www.21maldrei.de/events/online-seminar-fit-fuer-die-schulzeit-
 2024/
SUMMARY:Online Seminar "Fit für die Schulzeit"
DESCRIPTION:Mein Kind mit Behinderung kommt in die Schule. Wie geht das? \
 n\nWer immer schon einen Wegweiser für die Möglichkeiten und den Verfahr
 ensdschungel zum Übergang vom Kindergarten in die Schulzeit gesucht hat\,
  wird ihn hier finden.\n\nDas Seminar bietet einen Überblick über das Ve
 rfahren zur inklusiven Bildung in Hessen und wird in Kooperation mit "Geme
 insam Leben Hessen e.V." und "IBH - Inklu Beratung Hessen" angeboten.
ATTACH;FMTTYPE=image/jpeg:https://www.21maldrei.de/wp-content/uploads/2024
 /11/Gemeinsam-Leben-Fit-fuer-die-Schulzeit-Dez-2024.jpg
LOCATION:https://zoom.us/j/95816393635?pwd=WQwuoRdboqFPQSHO8mSTXFteyOe6uP.1
END:VEVENT
BEGIN:VTIMEZONE
TZID:Europe/Berlin
X-LIC-LOCATION:Europe/Berlin
BEGIN:STANDARD
DTSTART:20241027T020000
TZOFFSETFROM:+0200
TZOFFSETTO:+0100
TZNAME:CET
END:STANDARD
END:VTIMEZONE
END:VCALENDAR