BEGIN:VCALENDAR
VERSION:2.0
PRODID:-//wp-events-plugin.com//7.2.3.1//EN
TZID:Europe/Berlin
X-WR-TIMEZONE:Europe/Berlin
BEGIN:VEVENT
UID:30@21maldrei.de
DTSTART;TZID=Europe/Berlin:20240118T193000
DTEND;TZID=Europe/Berlin:20240118T213000
DTSTAMP:20240518T212322Z
URL:https://www.21maldrei.de/events/online-seminar-fit-fuer-die-schulzeit/
SUMMARY:Online Seminar "Fit für die Schulzeit"
DESCRIPTION:Thema: Mein Kind mit Behinderung kommt in die Schule \n\nWie g
 eht das? \n\nInklusive Bildung in Hessen - das Verfahren
ATTACH;FMTTYPE=image/jpeg:https://www.21maldrei.de/wp-content/uploads/2024
 /01/2001d472-a334-41f1-9183-1ddfbb749d4d.jpg
END:VEVENT
BEGIN:VTIMEZONE
TZID:Europe/Berlin
X-LIC-LOCATION:Europe/Berlin
BEGIN:STANDARD
DTSTART:20231029T020000
TZOFFSETFROM:+0200
TZOFFSETTO:+0100
TZNAME:CET
END:STANDARD
END:VTIMEZONE
END:VCALENDAR