BEGIN:VCALENDAR
VERSION:2.0
PRODID:-//wp-events-plugin.com//7.2.3.1//EN
TZID:Europe/Berlin
X-WR-TIMEZONE:Europe/Berlin
BEGIN:VEVENT
UID:20@21maldrei.de
DTSTART;TZID=Europe/Berlin:20240417T193000
DTEND;TZID=Europe/Berlin:20240417T213000
DTSTAMP:20240518T212206Z
URL:https://www.21maldrei.de/events/online-seminar-zum-thema-behindertente
 stament/
SUMMARY:Online Seminar zum Thema "Behindertentestament"
DESCRIPTION:Referent: Christian Au LL.M. - Rechtsanwalt und Fachanwalt für
  Sozialrecht\n\nDas Seminar ist kostenlos für unsere Mitglieder (entsprec
 hender Gutschein-Code wird Mitgliedern auf den üblichen Wegen bekannt ge
 geben).
ATTACH;FMTTYPE=image/jpeg:https://www.21maldrei.de/wp-content/uploads/2024
 /01/7314cd12-1e7e-49de-95fd-3a6058944bdc.jpg
END:VEVENT
BEGIN:VTIMEZONE
TZID:Europe/Berlin
X-LIC-LOCATION:Europe/Berlin
BEGIN:DAYLIGHT
DTSTART:20240331T030000
TZOFFSETFROM:+0100
TZOFFSETTO:+0200
TZNAME:CEST
END:DAYLIGHT
END:VTIMEZONE
END:VCALENDAR