BEGIN:VCALENDAR
VERSION:2.0
PRODID:-//wp-events-plugin.com//7.2.3.1//EN
TZID:Europe/Berlin
X-WR-TIMEZONE:Europe/Berlin
BEGIN:VEVENT
UID:73@21maldrei.de
DTSTART;TZID=Europe/Berlin:20260306T190000
DTEND;TZID=Europe/Berlin:20260306T230000
DTSTAMP:20260221T211749Z
URL:https://www.21maldrei.de/events/papa-treff-maerz-2026/
SUMMARY:Papa-Treff März 2026
DESCRIPTION:Was lange währt wird endlich gut: der erste 21malDREI Papa Tre
 ff findet am 06.03.2026 im The Lucky Few statt\n\nBitte wählt euren gewü
 nschte Vorspeise\, Hauptgang und Dessert und bestellt und bezahlt über di
 e Buchungsfunktion.\n\nBitte gebt unter "Kommentare" eventuelle Unverträg
 lichkeiten/Allergien an.\n\nMit eurer Buchung bucht ihr verbindlich eure T
 eilnahme sowie die gewählten Speisen. Wir sammeln die Bestellungen und da
 s Geld nur zur einfacheren Vorbereitung und geben die Kosten 1:1 an das Lu
 cky Few weiter. Bei Nicht-Erscheinen gibt es leider kein Geld zurück.\n\n
 Um unseren Verwaltungsaufwand zu begrenzen bitte wir um PayPal Zahlung wen
 n ihr könnt.
ATTACH;FMTTYPE=image/jpeg:https://www.21maldrei.de/wp-content/uploads/2026
 /01/Papa-Treff-Maerz-2026-1.jpg
LOCATION:The Lucky Few\, Unterortstr 1\, Eschborn\, 65760\, Deutschland
X-APPLE-STRUCTURED-LOCATION;VALUE=URI;X-ADDRESS=Unterortstr 1\, Eschborn\, 
 65760\, Deutschland;X-APPLE-RADIUS=100;X-TITLE=The Lucky Few:geo:0,0
END:VEVENT
BEGIN:VTIMEZONE
TZID:Europe/Berlin
X-LIC-LOCATION:Europe/Berlin
BEGIN:STANDARD
DTSTART:20251026T020000
TZOFFSETFROM:+0200
TZOFFSETTO:+0100
TZNAME:CET
END:STANDARD
END:VTIMEZONE
END:VCALENDAR