BEGIN:VCALENDAR
VERSION:2.0
PRODID:-//wp-events-plugin.com//7.2.3.1//EN
TZID:Europe/Berlin
X-WR-TIMEZONE:Europe/Berlin
BEGIN:VEVENT
UID:21@21maldrei.de
DTSTART;TZID=Europe/Berlin:20240425T193000
DTEND;TZID=Europe/Berlin:20240425T223000
DTSTAMP:20240425T080645Z
URL:https://www.21maldrei.de/events/pflege-2024-das-neue-pflegeunterstuetz
 ungs-und-entlastungsgesetz-pueg/
SUMMARY:Pflege 2024 - das neue Pflegeunterstützungs- und -entlastungsgeset
 z (PUEG)
DESCRIPTION:In diesem Seminar sprechen wir über die aktuellen Leistungen d
 er Pflegeversicherung für Menschen mit einem Pflegegrad. Schwerpunkt ist 
 dabei die häuslicher Pflege von Kindern\, Jugendlichen und jungen Erwachs
 enen mit Beeinträchtigung(en).\nDabei nehmen wir die Veränderungen der l
 etzten Jahre\, aber auch die angekündigten Änderungen für die Jahre 202
 5-2028 in Blick.\n\nIm Info-Teil werden Pflegegeld\, Pflegesachleistung un
 d die Möglichkeiten der Kombinations-Leistung beleuchtet. Wir besprechen\
 , wie Verhinderungs- und Kurzzeitpflege in diesem und den kommenden Jahren
  in den unterschiedlichen Pflegegraden genutzt werden kann und was es mit 
 der Nachbarschaftshilfe\, dem Entlastungsbetrag und wohnumfeldverbessernde
 n Maßnahmen auf sich hat.\n\nAußerdem werden Möglichkeiten bei kurzzeit
 iger Arbeitsverhinderung\, die Mitaufnahme von Eltern im Krankenhaus\, bzw
 . der Kinder bei einer Reha der Eltern besprochen.\nIn einer abschließend
 en Fragerunde können weitere offene Fragen rund um das PUEG und die Leist
 ungen der Pflegekasse geklärt werden.\n\nReduzierter Kostenbeitrag für M
 itglieder des Vereins (entsprechender Gutschein-Code wird Mitgliedern des 
 Vereins auf den üblichen Wegen mitgeteilt).\n\nDie Seminar-Reihe wird in 
 Kooperation mit Marion Mahnke angeboten und gefördert durch die Merck BK
 K.\n\n
ATTACH;FMTTYPE=image/jpeg:https://www.21maldrei.de/wp-content/uploads/2024
 /01/PUEG-2024.jpeg
END:VEVENT
BEGIN:VTIMEZONE
TZID:Europe/Berlin
X-LIC-LOCATION:Europe/Berlin
BEGIN:DAYLIGHT
DTSTART:20240331T030000
TZOFFSETFROM:+0100
TZOFFSETTO:+0200
TZNAME:CEST
END:DAYLIGHT
END:VTIMEZONE
END:VCALENDAR