BEGIN:VCALENDAR
VERSION:2.0
PRODID:-//wp-events-plugin.com//7.2.3.1//EN
TZID:Europe/Berlin
X-WR-TIMEZONE:Europe/Berlin
BEGIN:VEVENT
UID:69@21maldrei.de
DTSTART;TZID=Europe/Berlin;VALUE=DATE:20260905
DTEND;TZID=Europe/Berlin;VALUE=DATE:20260907
DTSTAMP:20260118T084639Z
URL:https://www.21maldrei.de/events/praesenz-seminar-mit-denise-hoenninger
 -2026/
SUMMARY:Save the date: Präsenz Seminar mit Denise Hönninger
DESCRIPTION:Tag 1: Seminar zum Thema "Verhalten Decodieren" (Beginner &amp\
 ; Advanced) und daran anschließende live Q&amp\;A Session\n\nTag 2: 7 Ein
 zel-Therapiestunden á 45 Minuten
LOCATION:Saalbau Ronneburg\, Gelnhäuser Straße 2\, Frankfurt am Main\, He
 ssen\, 60435\, Deutschland
X-APPLE-STRUCTURED-LOCATION;VALUE=URI;X-ADDRESS=Gelnhäuser Straße 2\, Fra
 nkfurt am Main\, Hessen\, 60435\, Deutschland;X-APPLE-RADIUS=100;X-TITLE=S
 aalbau Ronneburg:geo:0,0
END:VEVENT
BEGIN:VTIMEZONE
TZID:Europe/Berlin
X-LIC-LOCATION:Europe/Berlin
BEGIN:DAYLIGHT
DTSTART:20260329T030000
TZOFFSETFROM:+0100
TZOFFSETTO:+0200
TZNAME:CEST
END:DAYLIGHT
END:VTIMEZONE
END:VCALENDAR