BEGIN:VCALENDAR
VERSION:2.0
PRODID:-//wp-events-plugin.com//7.2.3.1//EN
TZID:Europe/Berlin
X-WR-TIMEZONE:Europe/Berlin
BEGIN:VEVENT
UID:108@21maldrei.de
DTSTART;TZID=Europe/Berlin:20260926T110000
DTEND;TZID=Europe/Berlin:20260926T160000
DTSTAMP:20260421T202107Z
URL:https://www.21maldrei.de/events/save-the-date-kanu-event-fuer-geschwis
 ter/
SUMMARY:Save the Date: Kanu-Event für Geschwister
DESCRIPTION:Wie auch schon im letzten Jahr haben wir eine Einladung des Kan
 u-Clubs Kelsterbach erhalten! Die Veranstaltung ist für Geschwisterkinder
  ab 6 Jahren mit Begleitung (Mitglieder des Vereins). Wir gehen gemeinsam 
 mit den Booten aufs Wasser\, grillen und verbringen ein paar schöne Stund
 en zusammen. Für Jung und Alt gibt es zudem Spielangebote auf der Wiese.\
 n\nDas Gelände ist nicht abgegrenzt zur Straße\, dem Radweg oder dem Mai
 n. Aufsichtspflicht liegt bei den Begleitpersonen.
LOCATION:Kanu-Club Kelsterbach\, Am Main 19\, Kelsterbach\, 65451\, Deutsch
 land
X-APPLE-STRUCTURED-LOCATION;VALUE=URI;X-ADDRESS=Am Main 19\, Kelsterbach\, 
 65451\, Deutschland;X-APPLE-RADIUS=100;X-TITLE=Kanu-Club Kelsterbach:geo:0
 ,0
END:VEVENT
BEGIN:VTIMEZONE
TZID:Europe/Berlin
X-LIC-LOCATION:Europe/Berlin
BEGIN:DAYLIGHT
DTSTART:20260329T030000
TZOFFSETFROM:+0100
TZOFFSETTO:+0200
TZNAME:CEST
END:DAYLIGHT
END:VTIMEZONE
END:VCALENDAR