BEGIN:VCALENDAR
VERSION:2.0
PRODID:-//wp-events-plugin.com//7.2.3.1//EN
TZID:Europe/Berlin
X-WR-TIMEZONE:Europe/Berlin
BEGIN:VEVENT
UID:107@21maldrei.de
DTSTART;TZID=Europe/Berlin:20260919T100000
DTEND;TZID=Europe/Berlin:20260919T160000
DTSTAMP:20260421T201232Z
URL:https://www.21maldrei.de/events/save-the-date-praesenzseminar-mit-etta
 -wilken/
SUMMARY:Save the Date: Präsenzseminar mit Etta Wilken - Lernen und Verhalt
 en bei Kindern und Jugendlichen mit Down-Syndrom
DESCRIPTION:Lernen und Verhalten bei Kindern und Jugendlichen mit Down-Synd
 rom\n\nFrau Prof. Dr. Etta Wilken hat Jahrzehnte zu Trisomie 21 und Down-S
 yndrom geforscht und eine exzellente Expertise. Bei alldem ist sie stet pr
 axisnah und ganzheitlich orientiert\, arbeitet viel mit Familien und gibt 
 auch in ihrem Ruhestand noch zahlreiche Seminare. Wir freuen uns sehr\, da
 ss wir sie für einen Workshop zum Themenkomplex "Was brauchen Kinder und 
 Jugendliche mit Down-Syndrom für eine gute Entwicklung und fürs Lernen?"
  gewinnen konnten.  Geplante Themen sind: Sprache\, Motorik und Lernverha
 lten ab dem Grundschulalter - bis hin zu einem Ausblick auf mögliche beru
 fliche Perspektiven.\n\n&nbsp\;\n\nOrt ist noch unter Vorbehalt.
LOCATION:Saalbau Ronneburg\, Gelnhäuser Straße 2\, Frankfurt am Main\, He
 ssen\, 60435\, Deutschland
X-APPLE-STRUCTURED-LOCATION;VALUE=URI;X-ADDRESS=Gelnhäuser Straße 2\, Fra
 nkfurt am Main\, Hessen\, 60435\, Deutschland;X-APPLE-RADIUS=100;X-TITLE=S
 aalbau Ronneburg:geo:0,0
END:VEVENT
BEGIN:VTIMEZONE
TZID:Europe/Berlin
X-LIC-LOCATION:Europe/Berlin
BEGIN:DAYLIGHT
DTSTART:20260329T030000
TZOFFSETFROM:+0100
TZOFFSETTO:+0200
TZNAME:CEST
END:DAYLIGHT
END:VTIMEZONE
END:VCALENDAR