BEGIN:VCALENDAR
VERSION:2.0
PRODID:-//wp-events-plugin.com//7.2.3.1//EN
TZID:Europe/Berlin
X-WR-TIMEZONE:Europe/Berlin
BEGIN:VEVENT
UID:92@21maldrei.de
DTSTART;TZID=Europe/Berlin:20260430T193000
DTEND;TZID=Europe/Berlin:20260430T220000
DTSTAMP:20260329T072531Z
URL:https://www.21maldrei.de/events/seminar-mein-kind-mit-trisomie-21-komm
 t-in-die-pubertaet-save-the-date/
SUMMARY:SEMINAR: PUBERTÄT – WENN DER KÖRPER SICH VERÄNDERT
DESCRIPTION:MEIN KIND MIT DOWN-SNYDROM KOMMT IN DIE PUBERTÄT\nPubertät be
 i Menschen mit Down-Syndrom verstehen und begleiten\n\nNicht selten kommt 
 er unerwartet: der Moment\, in dem sich Körper und Psyche zu verändern b
 eginnen – die Pubertät setzt ein. Die Hormone tanzen. Der Körper wäch
 st\, verändert sich\, entwickelt einen eigenen Geruch. Er fasziniert\, ve
 runsichert\, überfordert vielleicht auch – und will im Alltag erforscht
 \, erlebt und verstanden werden.\nZwischen Privatsphäre\, Unterstützungs
 bedarf\, Selbstständigkeit sowie dem Wunsch nach einer erfüllten Identit
 ät und Sexualität entstehen oft Unsicherheiten und viele Fragen.\n\nMit 
 diesem Fachvortrag möchte unsere Referentin Julia Gottfried das Thema ent
 tabuisieren und zugleich neue\, sichere und gesellschaftsfähige Wege aufz
 eigen. An diesem Abend erfahren wir\, wie Menschen mit Down-Syndrom wesent
 liche Aspekte sexueller Bildung – wie Freundschaft\, Identität\, Liebe 
 und Sexualität – in ihrem Leben erfahren und gestalten können.\n\nDer 
 Fachvortrag informiert auf Grundlage des aktuellen wissenschaftlichen Stan
 ds\, vermittelt praxisnahe Inhalte und gibt konkrete Handlungsansätze fü
 r den Alltag mit.\nUnsere Referentin: Julia Gottfried\nWir freuen uns sehr
 \, mit Julia Gottfried eine erfahrene und engagierte Referentin für unser
 en Fachvortrag gewonnen zu haben. Julia Gottfried ist Sozialarbeiterin und
  -pädagogin (B.A.) sowie zertifizierte Sexualpädagogin (iSp) und arbeite
 t seit über 20 Jahren im sonderpädagogischen Bereich. In dieser Zeit hat
  sie zahlreiche Menschen mit Entwicklungsbesonderheiten sowie ihre Familie
 n begleitet. Zu ihren beruflichen Stationen zählen unter anderem 14 Jahre
  bei der PEP – Praxis für Entwicklungspädagogik in Mainz sowie 3\,5 Ja
 hre am Kinderneurologischen Zentrum Mainz. In ihrer Arbeit wurde immer wie
 der deutlich\, wie wichtig Räume sind\, in denen Fragen zu Körper\, Pube
 rtät\, Freundschaft\, Liebe und Sexualität offen gestellt werden dürfen
 .\n\nMit ihrem Angebot infobox-liebe setzt sich Julia Gottfried für eine 
 inklusive und lebensnahe Sexualpädagogik ein. Ihr Anliegen ist es\, zu en
 ttabuisieren\, Sicherheit zu geben und Wege aufzuzeigen\, wie Menschen mit
  Entwicklungsbesonderheiten ihre Identität\, ihre Beziehungen und ihre Se
 xualität selbstbestimmt entwickeln können.\nIhre Arbeit verbindet fachli
 ches Wissen mit umfangreicher Praxiserfahrung\, Empathie und hoher Alltags
 tauglichkeit. Sie arbeitet mit Eltern\, Fachkräften sowie mit Menschen mi
 t Entwicklungsbesonderheiten selbst – immer mit dem Ziel\, Verständnis 
 zu fördern\, Unsicherheiten abzubauen und Mut zu machen.\nEin geschützte
 r Rahmen – ganz unter uns\nDer Abend wird seitens 21malDREI von Gründun
 gs- und Vorstandsmitglied Nina Barth begleitet.\n\nDer Teilnahmelink wird 
 nach Anmeldung versendet. Die Veranstaltung wird bewusst nicht aufgezeichn
 et\, um einen offenen und vertrauensvollen Austausch zu ermöglichen.\n\nD
 iese Zeit bringt so viel Neues mit sich: körperliche Veränderungen\, neu
 e Gefühle\, Fragen zur eigenen Identität und zum Miteinander. Die Pubert
 ät ist für alle Menschen ein Umbruch – intensiv\, herausfordernd und z
 ugleich voller Entwicklungsmöglichkeiten.\n\nUnd genau deshalb gilt: Niem
 and muss diesen Weg allein gehen.\n\nWir freuen uns auf euch.\nOrganisator
 isches\n\n 	Donnerstag\, 30.04.2026\n 	Start: 20:30 Uhr\n 	Dauer: vss. 90 
 Minuten\n 	€ 5\,00 für unsere Mitglieder\n 	€ 20\,00 für Nicht-Mitgl
 ieder\n 	online via Zoom\n 	Den Link erhaltet ihr nach erfolgreicher Anmel
 dung.\n 	Gern könnt Ihr der Veranstaltung gemeinsam als Elternpaar folgen
 .\n\nSeid gern ein paar Minuten früher „da“\, damit wir pünktlich st
 arten und die Technik vorher testen können.\n\nEuer Vorstand von 21malDRE
 I – Initiative Trisomie 21 Frankfurt e.V.
ATTACH;FMTTYPE=image/jpeg:https://www.21maldrei.de/wp-content/uploads/2026
 /03/Veranstaltung-Pubertaet-Julia-Gottfried.jpg
END:VEVENT
BEGIN:VTIMEZONE
TZID:Europe/Berlin
X-LIC-LOCATION:Europe/Berlin
BEGIN:DAYLIGHT
DTSTART:20260329T030000
TZOFFSETFROM:+0100
TZOFFSETTO:+0200
TZNAME:CEST
END:DAYLIGHT
END:VTIMEZONE
END:VCALENDAR