BEGIN:VCALENDAR
VERSION:2.0
PRODID:-//wp-events-plugin.com//7.2.3.1//EN
TZID:Europe/Berlin
X-WR-TIMEZONE:Europe/Berlin
BEGIN:VEVENT
UID:7@21maldrei.de
DTSTART;TZID=Europe/Berlin:20231102T193000
DTEND;TZID=Europe/Berlin:20231102T223000
DTSTAMP:20240518T212456Z
URL:https://www.21maldrei.de/events/seminarreihe-pflegegradwissen-kompakt-
 kommunikation-auf-augenhoehe/
SUMMARY:Seminarreihe „Pflegegradwissen Kompakt“ – Kommunikation auf A
 ugenhöhe
DESCRIPTION:Dritter Teil unserer Seminarreihe PFLEGEGRADWISSEN KOMPAKT mit
  Marion Mahnke.\n\nWeitere Details folgen.\n\nDie Seminar-Reihe wird gefö
 rdert durch die Merck BKK.\n\n
ATTACH;FMTTYPE=image/jpeg:https://www.21maldrei.de/wp-content/uploads/2024
 /01/4e816f00-34c6-4858-b56e-1e3af662e79d-1.jpg
LOCATION:http://Zoom
END:VEVENT
BEGIN:VTIMEZONE
TZID:Europe/Berlin
X-LIC-LOCATION:Europe/Berlin
BEGIN:STANDARD
DTSTART:20231029T020000
TZOFFSETFROM:+0200
TZOFFSETTO:+0100
TZNAME:CET
END:STANDARD
END:VTIMEZONE
END:VCALENDAR