BEGIN:VCALENDAR
VERSION:2.0
PRODID:-//wp-events-plugin.com//7.2.3.1//EN
TZID:Europe/Berlin
X-WR-TIMEZONE:Europe/Berlin
BEGIN:VEVENT
UID:5@21maldrei.de
DTSTART;TZID=Europe/Berlin:20230420T193000
DTEND;TZID=Europe/Berlin:20230420T223000
DTSTAMP:20240518T212926Z
URL:https://www.21maldrei.de/events/seminarreihe-pflegegradwissen-kompakt-
 money-talk-modul-i/
SUMMARY:Seminarreihe "Pflegegradwissen Kompakt" - Money Talk Modul I
DESCRIPTION:„MONEY TALK MODUL I“ ist der erste von drei Teilen unserer 
 Seminarreihe PFLEGEGRADWISSEN KOMPAKT mit Marion Mahnke.\n\nFokus "Pflegeg
 rad". Themen:\n\n 	Antragstellung\, Widerspruch\, Leistungen\n\n 	 Wie be
 kommt man einen Pflegegrad?\n 	Worauf muss ich beim Besuch des Gutachters 
 achten?\n 	Woran erkenne ich\, ob der zuerkannte Pflegegrad eigentlich pas
 st\n\n\n 	Ist der Pflegegrad festgestellt bleibt leider oft unklar:\n\n 	W
 elche Leistungen stehen mir mit dem Pflegegrad zu?\n 	Wie funktionieren Ve
 rhinderungspflege und Entlastungsbetrag?\n 	Stimmt es\, dass ich Rentenpun
 kte als Pflegeperson bekomme und unfallversichert bin?\n\n\n\nFragen über
  Fragen! In diesem Seminar befassen wir uns mit diesen und weiteren Themen
  rund um den Pflegegrad\, so dass ihr sattelfest und souverän die relevan
 ten Ansprüche kennt und wisst\, wie ihr bekommt\, was euch zusteht.\n\nWa
 nn? online via Zoom am Donnerstag\, 20.04.2023\, 19:30 – 22:30 Uhr\nWo? 
 PC\, Laptop\, Tablet oder Mobiltelefon mit funktionierender Kamera\, Lauts
 precher und Mikrofon\nVoraussetzung:\n\n 	Eine gute Internetverbindung\;\n
  	Pünktliches Erscheinen zu unserem Zoom-Meeting\n 	Die Zugangsdaten werd
 en rechtzeitig vor Beginn mitgeteilt.\n\nFür wen? Eltern\, Erziehende &am
 p\; Familienangehörige\nKosten? 30 Euro Mitglieder\, 50 Euro Nichtmitglie
 der\n\n&gt\;&gt\;&gt\;&gt\; Anmeldeformular &lt\;&lt\;&lt\;&lt\;\n\nDie Se
 minar-Reihe wird gefördert durch die Merck BKK.\n\n
ATTACH;FMTTYPE=image/jpeg:https://www.21maldrei.de/wp-content/uploads/2024
 /01/1745b749-c3e6-40de-a96a-1f9f935ca7db.jpg
LOCATION:http://Zoom
END:VEVENT
BEGIN:VTIMEZONE
TZID:Europe/Berlin
X-LIC-LOCATION:Europe/Berlin
BEGIN:DAYLIGHT
DTSTART:20230326T030000
TZOFFSETFROM:+0100
TZOFFSETTO:+0200
TZNAME:CEST
END:DAYLIGHT
END:VTIMEZONE
END:VCALENDAR