BEGIN:VCALENDAR
VERSION:2.0
PRODID:-//wp-events-plugin.com//7.2.3.1//EN
TZID:Europe/Berlin
X-WR-TIMEZONE:Europe/Berlin
BEGIN:VEVENT
UID:6@21maldrei.de
DTSTART;TZID=Europe/Berlin:20230706T193000
DTEND;TZID=Europe/Berlin:20230706T223000
DTSTAMP:20240518T212703Z
URL:https://www.21maldrei.de/events/seminarreihe-pflegegradwissen-kompakt-
 money-talk-modul-ii/
SUMMARY:Seminarreihe "Pflegegradwissen Kompakt" - Money Talk Modul II
DESCRIPTION:Zweiter Teil unserer Seminarreihe PFLEGEGRADWISSEN KOMPAKT mi
 t Marion Mahnke.\n\nFokus "Schwerbehindertenausweis". Konkrete Themen:\n\n
  	Antragstellung\, Widerspruch\n\n 	Wie bekommt man einen Schwerbehinderte
 nausweis?\n 	Woran erkenne ich\, ob der zuerkannte Grad der Behinderung ei
 gentlich passt?\n 	Was sind Merkzeichen und welche gibt es?\n\n\n 	Liegt d
 er Schwerbehindertenausweis vor\, stellen sich weitere Fragen:\n\n 	Welche
  Leistungen stehen mir mit dem Schwerbehindertenausweis zu?\n 	Ergeben sic
 h durch Merkzeichen weitere Ansprüche?\n\n\n\nFragen über Fragen! In die
 sem Seminar befassen wir uns mit diesen und weiteren Themen rund um den Sc
 hwerbehindertenausweis\, so dass ihr sattelfest und souverän die relevant
 en Ansprüche kennt und wisst\, wie ihr bekommt\, was euch zusteht.\n\nWan
 n? online via Zoom am Donnerstag\, 06.07.2023\, 19:30 – 22:30 Uhr\nWo? P
 C\, Laptop\, Tablet oder Mobiltelefon mit funktionierender Kamera\, Lautsp
 recher und Mikrofon\nVoraussetzung:\n\n 	Eine gute Internetverbindung\;\n 
 	Pünktliches Erscheinen zu unserem Zoom-Meeting\n 	Die Zugangsdaten werde
 n rechtzeitig vor Beginn mitgeteilt.\n\nFür wen? Eltern\, Erziehende &amp
 \; Familienangehörige\nKosten? 30 Euro Mitglieder\, 50 Euro Nichtmitglied
 er\n\n&gt\;&gt\;&gt\;&gt\; Anmeldeformular &lt\;&lt\;&lt\;&lt\;\n\nBitte z
 ahlt nach Bestätigung der Anmeldung den Teilnahmebeitrag unter Angabe des
  Betreffs: MONEY TALK MODUL II  - [Teilnehmername] per Überweisung\n21ma
 lDREI – Initiative Trisomie 21 Frankfurt e.V.\nIBAN: DE95 5019 0000 6300
  5947 17\nBIC: FFVBDEFF\n\nWas ist den Kosten enthalten?\n• Teilnahme am
  Online-Seminar\n• Nachlese per E-Mail im Anschluss\n• Beantwortung in
 dividueller Fragen per E-Mail an die Referentin in der Woche nach dem Semi
 nar.\n• Auf Wunsch Teilnahmebescheinigung (bitte bei Anmeldung angeben).
 \n\nDie Seminar-Reihe wird gefördert durch die Merck BKK.\n\n
ATTACH;FMTTYPE=image/jpeg:https://www.21maldrei.de/wp-content/uploads/2024
 /01/a6d41603-143f-49ee-8170-5f90f25c292f.jpg
LOCATION:http://Zoom
END:VEVENT
BEGIN:VTIMEZONE
TZID:Europe/Berlin
X-LIC-LOCATION:Europe/Berlin
BEGIN:DAYLIGHT
DTSTART:20230326T030000
TZOFFSETFROM:+0100
TZOFFSETTO:+0200
TZNAME:CEST
END:DAYLIGHT
END:VTIMEZONE
END:VCALENDAR