BEGIN:VCALENDAR
VERSION:2.0
PRODID:-//wp-events-plugin.com//7.2.3.1//EN
TZID:Europe/Berlin
X-WR-TIMEZONE:Europe/Berlin
BEGIN:VEVENT
UID:40@21maldrei.de
DTSTART;TZID=Europe/Berlin:20250225T200000
DTEND;TZID=Europe/Berlin:20250225T220000
DTSTAMP:20250212T214822Z
URL:https://www.21maldrei.de/events/targeted-nutritional-intervention-tni/
SUMMARY:Targeted Nutritional Intervention (TNI)
DESCRIPTION:Integrative Gesundheit für Menschen mit Down-Syndrom: Die Bede
 utung der körpereigenen\nStoffwechsel Vorgänge und ihre individuelle Unt
 erstützung mittels TNI (Targeted Nutritional\nIntervention). Das Down-Syn
 drom ist nicht nur eine genetische Erkrankung\; das zusätzliche Chromosom
  21 verändert vielfältige grundlegende Stoffwechselprozesse. Betroffene 
 Bereiche sind unter anderem der Folatstoffwechsel und die Methylierung\, e
 ine erhöhte Menge an oxidativem Stress und chronischen Entzündungen\, di
 e mitochondriale Dysfunktion und eine veränderte Neurotransmitter Balance
 \, sowie die vorzeitige Alterung und Alzheimer Demenz.\n\nIn diesem Semina
 r erklärt Dr. Petra Buchanan die Zusammenhänge von Genetik\, Epigenetik 
 und der  Biochemie einer Trisomie 21 und beschreibt die wichtigsten präv
 entiven Gesundheits-Maßnahmen für Menschen mit Down Syndrom. Durch umfas
 sende Diagnostik und Behandlung können die betroffenen Stoffwechselfunkti
 onen individuell unterstützt werden und so den Patienten dauerhaft zu meh
 r\nLebensqualität verholfen werden.\nDr. Petra Buchanan ist promovierte B
 iologin\, Heilpraktikerin und selbst Mutter eines Kindes mit Trisomie 21 u
 nd spezialisiert sich in ihrer Praxis auf die Funktionelle Medizin für Me
 nschen mit Down-Syndrom.\n\nMehr Informationen findet Ihr unter: www.praxi
 s321.de
ATTACH;FMTTYPE=image/jpeg:https://www.21maldrei.de/wp-content/uploads/2024
 /11/TNI-Seminar-2025.jpg
END:VEVENT
BEGIN:VTIMEZONE
TZID:Europe/Berlin
X-LIC-LOCATION:Europe/Berlin
BEGIN:STANDARD
DTSTART:20241027T020000
TZOFFSETFROM:+0200
TZOFFSETTO:+0100
TZNAME:CET
END:STANDARD
END:VTIMEZONE
END:VCALENDAR