BEGIN:VCALENDAR
VERSION:2.0
PRODID:-//wp-events-plugin.com//7.2.3.1//EN
TZID:Europe/Berlin
X-WR-TIMEZONE:Europe/Berlin
BEGIN:VEVENT
UID:37@21maldrei.de
DTSTART;TZID=Europe/Berlin:20250116T200000
DTEND;TZID=Europe/Berlin:20250116T220000
DTSTAMP:20250124T111009Z
URL:https://www.21maldrei.de/events/teilhabeassistenz-in-der-schule-wie-ge
 ht-das/
SUMMARY:Teilhabeassistenz in der Schule - wie geht das?
DESCRIPTION:Wer immer schon wissen wollte\, wie Kinder mit Behinderung in T
 heorie und Praxis eine Teilhabeassistenz zur Unterstützung im Schulalltag
  erhalten können\, wird hier etwas lernen.\n\nDas Seminar bietet einen Ü
 berblick über rechtliche Grundlagen &amp\; praktische Umsetzung zum Thema
  Teilhabeassistenz in der Schule und wird in Kooperation mit "Gemeinsam Le
 ben Hessen e.V." und "IBH - Inklu Beratung Hessen" angeboten.
ATTACH;FMTTYPE=image/jpeg:https://www.21maldrei.de/wp-content/uploads/2024
 /11/Gemeinsam-Leben-Teilhabeassistenz-Jan-2025.jpg
END:VEVENT
BEGIN:VTIMEZONE
TZID:Europe/Berlin
X-LIC-LOCATION:Europe/Berlin
BEGIN:STANDARD
DTSTART:20241027T020000
TZOFFSETFROM:+0200
TZOFFSETTO:+0100
TZNAME:CET
END:STANDARD
END:VTIMEZONE
END:VCALENDAR