BEGIN:VCALENDAR
VERSION:2.0
PRODID:-//wp-events-plugin.com//7.2.3.1//EN
TZID:Europe/Berlin
X-WR-TIMEZONE:Europe/Berlin
BEGIN:VEVENT
UID:53@21maldrei.de
DTSTART;TZID=Europe/Berlin:20250423T090000
DTEND;TZID=Europe/Berlin:20250423T130000
DTSTAMP:20250312T210239Z
URL:https://www.21maldrei.de/events/tuerkischer-mama-treff-april-2025/
SUMMARY:Türkischer Mama-Treff
DESCRIPTION:
ATTACH;FMTTYPE=image/jpeg:https://www.21maldrei.de/wp-content/uploads/2025
 /03/Tuerkischer-Mama-Treff-April-2025.jpg
LOCATION:Seyidoglu Baklavalari\, Zeil 53\, Frankfurt am Main\, Deutschland
X-APPLE-STRUCTURED-LOCATION;VALUE=URI;X-ADDRESS=Zeil 53\, Frankfurt am Main
 \, Deutschland;X-APPLE-RADIUS=100;X-TITLE=Seyidoglu Baklavalari:geo:0,0
END:VEVENT
BEGIN:VTIMEZONE
TZID:Europe/Berlin
X-LIC-LOCATION:Europe/Berlin
BEGIN:DAYLIGHT
DTSTART:20250330T030000
TZOFFSETFROM:+0100
TZOFFSETTO:+0200
TZNAME:CEST
END:DAYLIGHT
END:VTIMEZONE
END:VCALENDAR