BEGIN:VCALENDAR
VERSION:2.0
PRODID:-//wp-events-plugin.com//7.2.3.1//EN
TZID:Europe/Berlin
X-WR-TIMEZONE:Europe/Berlin
BEGIN:VEVENT
UID:16@21maldrei.de
DTSTART;TZID=Europe/Berlin:20230708T100000
DTEND;TZID=Europe/Berlin:20230708T120000
DTSTAMP:20240523T211735Z
URL:https://www.21maldrei.de/events/tuerkisches-familienfruehstueck/
SUMMARY:Türkisches Familienfrühstück
DESCRIPTION:Türkisch: Melek Anneleri ve Cocuklar icin Cumartesi 08.07.2023
  saat 10 da kahvaltıya buyrun gelin. 21malDREI - Initiative Trisomie 21 F
 rankfurt e.V. derneğimizin Türk Aile buluşması.\n\nDeutsch: Am kommend
 en Samstag findet zum ersten Mal das Familientreffen unserer türkisch spr
 echenden Mütter statt. Um 10 Uhr startet das Frühstück und bietet allen
  interessierten einen geschützten Rahmen\, um sich in türkischer Sprache
  über das Leben mit einem Mitglied mit Down Syndrom auszutauschen. Intere
 ssierte Mamas sind herzlich eingeladen.
ATTACH;FMTTYPE=image/jpeg:https://www.21maldrei.de/wp-content/uploads/2023
 /07/21malDREI_Familientreffen_tuerkisch.jpeg
LOCATION:Familienzentrum Westend Frankfurt\, Westendstraße 21\, Frankfurt\
 , 60325\, Deutschland
X-APPLE-STRUCTURED-LOCATION;VALUE=URI;X-ADDRESS=Westendstraße 21\, Frankfu
 rt\, 60325\, Deutschland;X-APPLE-RADIUS=100;X-TITLE=Familienzentrum Westen
 d Frankfurt:geo:0,0
END:VEVENT
BEGIN:VTIMEZONE
TZID:Europe/Berlin
X-LIC-LOCATION:Europe/Berlin
BEGIN:DAYLIGHT
DTSTART:20230326T030000
TZOFFSETFROM:+0100
TZOFFSETTO:+0200
TZNAME:CEST
END:DAYLIGHT
END:VTIMEZONE
END:VCALENDAR